BEGIN_USGS_DOQ_HEADER *
QUADRANGLE_NAME "BUCKEYE RIDGE" *
QUADRANT SW *
WEST_LONGITUDE -119 30 0.000 *
EAST_LONGITUDE -119 26 15.000 *
NORTH_LATITUDE 38 11 15.000 *
SOUTH_LATITUDE 38 7 30.000 *
PRODUCTION_DATE 2003 1 29 *
RASTER_ORDER LEFT_RIGHT/TOP_BOTTOM *
BAND_ORGANIZATION "SINGLE FILE" *
BAND_CONTENT BLACK&WHITE *
BITS_PER_PIXEL 8 *
SAMPLES_AND_LINES 6350 7689 *
HORIZONTAL_DATUM NAD83 *
HORIZONTAL_COORDINATE_SYSTEM UTM *
COORDINATE_ZONE 11 *
HORIZONTAL_UNITS METERS *
HORIZONTAL_RESOLUTION 1.0 *
SECONDARY_HORIZONTAL_DATUM NAD27 *
XY_ORIGIN 280475.138 4229873.083 *
SECONDARY_XY_ORIGIN 280557.518 4229673.823 *
NATION US *
STATE CA *
NW_QUAD_CORNER_XY 281050.181 4229573.083 *
NE_QUAD_CORNER_XY 286524.721 4229427.159 *
SE_QUAD_CORNER_XY 286342.306 4222490.970 *
SW_QUAD_CORNER_XY 280863.080 4222636.817 *
SECONDARY_NW_QUAD_XY 281044.683 4229367.037 *
SECONDARY_NE_QUAD_XY 286519.362 4229221.109 *
SECONDARY_SE_QUAD_XY 286336.951 4222285.068 *
SECONDARY_SW_QUAD_XY 280857.587 4222430.918 *
RMSE_XY 2.10 *
IMAGE_SOURCE "BLACK AND WHITE FILM" *
SOURCE_IMAGE_ID "NAPP 10556 63" *
SOURCE_IMAGE_DATE 1998 8 26 *
SOURCE_IMAGE_ID "NAPP 10556 62" *
SOURCE_IMAGE_DATE 1998 8 26 *
SOURCE_IMAGE_ID "NAPP 10556 64" *
SOURCE_IMAGE_DATE 1998 8 26 *
SOURCE_IMAGE_ID "NAPP 10555 230" *
SOURCE_IMAGE_DATE 1998 8 26 *
SOURCE_IMAGE_ID "NAPP 10555 231" *
SOURCE_IMAGE_DATE 1998 8 26 *
SOURCE_IMAGE_ID "NAPP 10555 232" *
SOURCE_IMAGE_DATE 1998 8 26 *
SOURCE_DEM_DATE 2003 1 1 *
AGENCY "WESTERN MAPPING CENTER (WMC)" *
PRODUCER "USDA FS GEOSPATIAL SERVICE AND TECHNOLOGY CENTER" *
PRODUCTION_SYSTEM "ORBIT OR_RECTIFY V.5.2" *
STANDARD_VERSION 1996 12 *
METADATA_DATE 2003 3 25 *
DATA_FILE_SIZE 48831500 *
BYTE_COUNT 6350 * * * * * * * * * * * * * * * * * * * * * * * * * * *
END_USGS_HEADER *
