BEGIN_USGS_DOQ_HEADER *
QUADRANGLE_NAME "TOWER PEAK" *
QUADRANT NE *
WEST_LONGITUDE -119 33 45.000 *
EAST_LONGITUDE -119 30 0.000 *
NORTH_LATITUDE 38 15 0.000 *
SOUTH_LATITUDE 38 11 15.000 *
PRODUCTION_DATE 2000 11 14 *
RASTER_ORDER LEFT_RIGHT/TOP_BOTTOM *
BAND_ORGANIZATION "SINGLE FILE" *
BAND_CONTENT BLACK&WHITE *
BITS_PER_PIXEL 8 *
SAMPLES_AND_LINES 6350 7693 *
HORIZONTAL_DATUM NAD83 *
HORIZONTAL_COORDINATE_SYSTEM UTM *
COORDINATE_ZONE 11 *
HORIZONTAL_UNITS METERS *
HORIZONTAL_RESOLUTION 1.0 *
SECONDARY_HORIZONTAL_DATUM NAD27 *
XY_ORIGIN 275187.504 4236958.614 *
SECONDARY_XY_ORIGIN 275269.870 4236759.352 *
NATION US *
STATE CA *
NW_QUAD_CORNER_XY 275767.632 4236659.114 *
NE_QUAD_CORNER_XY 281237.542 4236509.409 *
SE_QUAD_CORNER_XY 281050.181 4229573.083 *
SW_QUAD_CORNER_XY 275575.578 4229722.708 *
SECONDARY_NW_QUAD_XY 275761.993 4236452.926 *
SECONDARY_NE_QUAD_XY 281232.041 4236303.218 *
SECONDARY_SE_QUAD_XY 281044.683 4229367.037 *
SECONDARY_SW_QUAD_XY 275569.943 4229516.666 *
RMSE_XY 2.41 *
IMAGE_SOURCE "BLACK AND WHITE FILM" *
SOURCE_IMAGE_ID "NAPP 10554 252" *
SOURCE_IMAGE_DATE 1998 8 25 *
SOURCE_IMAGE_ID "NAPP 10554 253" *
SOURCE_IMAGE_DATE 1998 8 25 *
SOURCE_IMAGE_ID "NAPP 10554 251" *
SOURCE_IMAGE_DATE 1998 8 25 *
SOURCE_IMAGE_ID "NAPP 10554 258" *
SOURCE_IMAGE_DATE 1998 8 25 *
SOURCE_IMAGE_ID "NAPP 10554 259" *
SOURCE_IMAGE_DATE 1998 8 25 *
SOURCE_IMAGE_ID "NAPP 10554 260" *
SOURCE_IMAGE_DATE 1998 8 25 *
SOURCE_DEM_DATE 2000 0 0 *
AGENCY "WESTERN MAPPING CENTER (WMC)" *
PRODUCER "USDA FS GEOSPATIAL SERVICE AND TECHNOLOGY CENTER" *
PRODUCTION_SYSTEM "ORBIT OR_RECTIFY V.5.2" *
STANDARD_VERSION 1996 12 *
METADATA_DATE 2000 11 16 *
DATA_FILE_SIZE 48856900 *
BYTE_COUNT 6350 * * * * * * * * * * * * * * * * * * * * * * * * * * *
END_USGS_HEADER *
