BEGIN_USGS_DOQ_HEADER *
QUADRANGLE_NAME "EMIGRANT LAKE" *
QUADRANT NW *
WEST_LONGITUDE -119 45 0.000 *
EAST_LONGITUDE -119 41 15.000 *
NORTH_LATITUDE 38 15 0.000 *
SOUTH_LATITUDE 38 11 15.000 *
PRODUCTION_DATE 2000 11 14 *
RASTER_ORDER LEFT_RIGHT/TOP_BOTTOM *
BAND_ORGANIZATION "SINGLE FILE" *
BAND_CONTENT BLACK&WHITE *
BITS_PER_PIXEL 8 *
SAMPLES_AND_LINES 6365 7704 *
HORIZONTAL_DATUM NAD83 *
HORIZONTAL_COORDINATE_SYSTEM UTM *
COORDINATE_ZONE 11 *
HORIZONTAL_UNITS METERS *
HORIZONTAL_RESOLUTION 1.0 *
SECONDARY_HORIZONTAL_DATUM NAD27 *
XY_ORIGIN 258763.212 4237430.448 *
SECONDARY_XY_ORIGIN 258845.754 4237231.266 *
NATION US *
STATE CA *
NW_QUAD_CORNER_XY 259357.520 4237130.448 *
NE_QUAD_CORNER_XY 264827.623 4236969.632 *
SE_QUAD_CORNER_XY 264626.182 4230033.063 *
SW_QUAD_CORNER_XY 259151.385 4230193.794 *
SECONDARY_NW_QUAD_XY 259351.467 4236924.269 *
SECONDARY_NE_QUAD_XY 264821.708 4236763.452 *
SECONDARY_SE_QUAD_XY 264620.271 4229827.029 *
SECONDARY_SW_QUAD_XY 259145.336 4229987.761 *
RMSE_XY 2.41 *
IMAGE_SOURCE "BLACK AND WHITE FILM" *
SOURCE_IMAGE_ID "NAPP 10564 269" *
SOURCE_IMAGE_DATE 1998 9 18 *
SOURCE_IMAGE_ID "NAPP 10564 270" *
SOURCE_IMAGE_DATE 1998 9 18 *
SOURCE_IMAGE_ID "NAPP 10564 268" *
SOURCE_IMAGE_DATE 1998 9 18 *
SOURCE_IMAGE_ID "NAPP 10554 199" *
SOURCE_IMAGE_DATE 1998 8 25 *
SOURCE_IMAGE_ID "NAPP 10554 198" *
SOURCE_IMAGE_DATE 1998 8 25 *
SOURCE_IMAGE_ID "NAPP 10554 197" *
SOURCE_IMAGE_DATE 1998 8 25 *
SOURCE_IMAGE_ID "NAPP 10554 287" *
SOURCE_IMAGE_DATE 1998 8 25 *
SOURCE_IMAGE_ID "NAPP 10554 286" *
SOURCE_IMAGE_DATE 1998 8 25 *
SOURCE_IMAGE_ID "NAPP 10554 285" *
SOURCE_IMAGE_DATE 1998 8 25 *
SOURCE_DEM_DATE 2000 0 0 *
AGENCY "WESTERN MAPPING CENTER (WMC)" *
PRODUCER "USDA FS GEOSPATIAL SERVICE AND TECHNOLOGY CENTER" *
PRODUCTION_SYSTEM "ORBIT OR_RECTIFY V.5.2" *
STANDARD_VERSION 1996 12 *
METADATA_DATE 2000 11 16 *
DATA_FILE_SIZE 49042325 *
BYTE_COUNT 6365 * * * * * * * * * * * * * * * * * * * * *
END_USGS_HEADER *
