BEGIN_USGS_DOQ_HEADER *
QUADRANGLE_NAME "DOME HILL" *
QUADRANT SW *
WEST_LONGITUDE -119 7 30.000 *
EAST_LONGITUDE -119 3 45.000 *
NORTH_LATITUDE 38 18 45.000 *
SOUTH_LATITUDE 38 15 0.000 *
PRODUCTION_DATE 2003 1 30 *
RASTER_ORDER LEFT_RIGHT/TOP_BOTTOM *
BAND_ORGANIZATION "SINGLE FILE" *
BAND_CONTENT BLACK&WHITE *
BITS_PER_PIXEL 8 *
SAMPLES_AND_LINES 6310 7667 *
HORIZONTAL_DATUM NAD83 *
HORIZONTAL_COORDINATE_SYSTEM UTM *
COORDINATE_ZONE 11 *
HORIZONTAL_UNITS METERS *
HORIZONTAL_RESOLUTION 1.0 *
SECONDARY_HORIZONTAL_DATUM NAD27 *
XY_ORIGIN 313669.619 4242924.882 *
SECONDARY_XY_ORIGIN 313751.055 4242725.679 *
NATION US *
STATE CA *
NW_QUAD_CORNER_XY 314215.210 4242624.882 *
NE_QUAD_CORNER_XY 319680.028 4242501.022 *
SE_QUAD_CORNER_XY 319525.282 4235565.130 *
SW_QUAD_CORNER_XY 314055.769 4235688.925 *
SECONDARY_NW_QUAD_XY 314210.533 4242418.521 *
SECONDARY_NE_QUAD_XY 319675.489 4242294.659 *
SECONDARY_SE_QUAD_XY 319520.746 4235358.911 *
SECONDARY_SW_QUAD_XY 314051.095 4235482.709 *
RMSE_XY 1.76 *
IMAGE_SOURCE "BLACK AND WHITE FILM" *
SOURCE_IMAGE_ID "NAPP 10556 169" *
SOURCE_IMAGE_DATE 1998 8 26 *
SOURCE_IMAGE_ID "NAPP 10556 168" *
SOURCE_IMAGE_DATE 1998 8 26 *
SOURCE_IMAGE_ID "NAPP 10556 170" *
SOURCE_IMAGE_DATE 1998 8 26 *
SOURCE_IMAGE_ID "NAPP 10554 9" *
SOURCE_IMAGE_DATE 1998 8 25 *
SOURCE_IMAGE_ID "NAPP 10554 8" *
SOURCE_IMAGE_DATE 1998 8 25 *
SOURCE_IMAGE_ID "NAPP 10554 7" *
SOURCE_IMAGE_DATE 1998 8 25 *
SOURCE_IMAGE_ID "NAPP 10556 79" *
SOURCE_IMAGE_DATE 1998 8 26 *
SOURCE_IMAGE_ID "NAPP 10556 78" *
SOURCE_IMAGE_DATE 1998 8 26 *
SOURCE_IMAGE_ID "NAPP 10556 77" *
SOURCE_IMAGE_DATE 1998 8 26 *
SOURCE_DEM_DATE 2003 1 1 *
AGENCY "WESTERN MAPPING CENTER (WMC)" *
PRODUCER "USDA FS GEOSPATIAL SERVICE AND TECHNOLOGY CENTER" *
PRODUCTION_SYSTEM "ORBIT OR_RECTIFY V.5.2" *
STANDARD_VERSION 1996 12 *
METADATA_DATE 2003 3 25 *
DATA_FILE_SIZE 48385080 *
BYTE_COUNT 6310 * * * * * * * * * * * * * * * * * * * *
END_USGS_HEADER *
