BEGIN_USGS_DOQ_HEADER *
QUADRANGLE_NAME "MOUNT JACKSON" *
QUADRANT NE *
WEST_LONGITUDE -119 18 45.000 *
EAST_LONGITUDE -119 15 0.000 *
NORTH_LATITUDE 38 22 30.000 *
SOUTH_LATITUDE 38 18 45.000 *
PRODUCTION_DATE 2003 1 29 *
RASTER_ORDER LEFT_RIGHT/TOP_BOTTOM *
BAND_ORGANIZATION "SINGLE FILE" *
BAND_CONTENT BLACK&WHITE *
BITS_PER_PIXEL 8 *
SAMPLES_AND_LINES 6321 7678 *
HORIZONTAL_DATUM NAD83 *
HORIZONTAL_COORDINATE_SYSTEM UTM *
COORDINATE_ZONE 11 *
HORIZONTAL_UNITS METERS *
HORIZONTAL_RESOLUTION 1.0 *
SECONDARY_HORIZONTAL_DATUM NAD27 *
XY_ORIGIN 297433.491 4250254.899 *
SECONDARY_XY_ORIGIN 297515.286 4250055.506 *
NATION US *
STATE CA *
NW_QUAD_CORNER_XY 297994.211 4249954.899 *
NE_QUAD_CORNER_XY 303454.485 4249819.863 *
SE_QUAD_CORNER_XY 303285.417 4242883.708 *
SW_QUAD_CORNER_XY 297820.440 4243018.674 *
SECONDARY_NW_QUAD_XY 297989.116 4249748.406 *
SECONDARY_NE_QUAD_XY 303449.528 4249613.366 *
SECONDARY_SE_QUAD_XY 303280.464 4242677.356 *
SECONDARY_SW_QUAD_XY 297815.349 4242812.326 *
RMSE_XY 2.10 *
IMAGE_SOURCE "BLACK AND WHITE FILM" *
SOURCE_IMAGE_ID "NAPP 10565 128" *
SOURCE_IMAGE_DATE 1998 9 19 *
SOURCE_IMAGE_ID "NAPP 10565 127" *
SOURCE_IMAGE_DATE 1998 9 19 *
SOURCE_IMAGE_ID "NAPP 10564 204" *
SOURCE_IMAGE_DATE 1998 9 18 *
SOURCE_IMAGE_ID "NAPP 10556 11" *
SOURCE_IMAGE_DATE 1998 8 26 *
SOURCE_IMAGE_ID "NAPP 10556 10" *
SOURCE_IMAGE_DATE 1998 8 26 *
SOURCE_IMAGE_ID "NAPP 10556 9" *
SOURCE_IMAGE_DATE 1998 8 26 *
SOURCE_IMAGE_ID "NAPP 10565 114" *
SOURCE_IMAGE_DATE 1998 9 19 *
SOURCE_IMAGE_ID "NAPP 10565 113" *
SOURCE_IMAGE_DATE 1998 9 19 *
SOURCE_IMAGE_ID "NAPP 10565 112" *
SOURCE_IMAGE_DATE 1998 9 19 *
SOURCE_DEM_DATE 2003 1 1 *
AGENCY "WESTERN MAPPING CENTER (WMC)" *
PRODUCER "USDA FS GEOSPATIAL SERVICE AND TECHNOLOGY CENTER" *
PRODUCTION_SYSTEM "ORBIT OR_RECTIFY V.5.2" *
STANDARD_VERSION 1996 12 *
METADATA_DATE 2003 3 25 *
DATA_FILE_SIZE 48538959 *
BYTE_COUNT 6321 * * * * * * * * * * * * * * * * * * * *
END_USGS_HEADER *
