BEGIN_USGS_DOQ_HEADER *
QUADRANGLE_NAME "MOUNT JACKSON" *
QUADRANT SW *
WEST_LONGITUDE -119 22 30.000 *
EAST_LONGITUDE -119 18 45.000 *
NORTH_LATITUDE 38 18 45.000 *
SOUTH_LATITUDE 38 15 0.000 *
PRODUCTION_DATE 2003 1 29 *
RASTER_ORDER LEFT_RIGHT/TOP_BOTTOM *
BAND_ORGANIZATION "SINGLE FILE" *
BAND_CONTENT BLACK&WHITE *
BITS_PER_PIXEL 8 *
SAMPLES_AND_LINES 6331 7682 *
HORIZONTAL_DATUM NAD83 *
HORIZONTAL_COORDINATE_SYSTEM UTM *
COORDINATE_ZONE 11 *
HORIZONTAL_UNITS METERS *
HORIZONTAL_RESOLUTION 1.0 *
SECONDARY_HORIZONTAL_DATUM NAD27 *
XY_ORIGIN 291789.900 4243457.344 *
SECONDARY_XY_ORIGIN 291871.893 4243257.991 *
NATION US *
STATE CA *
NW_QUAD_CORNER_XY 292355.406 4243157.344 *
NE_QUAD_CORNER_XY 297820.440 4243018.674 *
SE_QUAD_CORNER_XY 297646.911 4236082.511 *
SW_QUAD_CORNER_XY 292177.180 4236221.109 *
SECONDARY_NW_QUAD_XY 292350.178 4242950.999 *
SECONDARY_NE_QUAD_XY 297815.349 4242812.326 *
SECONDARY_SE_QUAD_XY 297641.823 4235876.308 *
SECONDARY_SW_QUAD_XY 292171.955 4236014.909 *
RMSE_XY 2.10 *
IMAGE_SOURCE "BLACK AND WHITE FILM" *
SOURCE_IMAGE_ID "NAPP 10556 12" *
SOURCE_IMAGE_DATE 1998 8 26 *
SOURCE_IMAGE_ID "NAPP 10556 13" *
SOURCE_IMAGE_DATE 1998 8 26 *
SOURCE_IMAGE_ID "NAPP 10556 11" *
SOURCE_IMAGE_DATE 1998 8 26 *
SOURCE_IMAGE_ID "NAPP 10555 234" *
SOURCE_IMAGE_DATE 1998 8 26 *
SOURCE_IMAGE_ID "NAPP 10555 235" *
SOURCE_IMAGE_DATE 1998 8 26 *
SOURCE_IMAGE_ID "NAPP 10555 236" *
SOURCE_IMAGE_DATE 1998 8 26 *
SOURCE_IMAGE_ID "NAPP 10565 125" *
SOURCE_IMAGE_DATE 1998 9 19 *
SOURCE_IMAGE_ID "NAPP 10565 126" *
SOURCE_IMAGE_DATE 1998 9 19 *
SOURCE_IMAGE_ID "NAPP 10565 127" *
SOURCE_IMAGE_DATE 1998 9 19 *
SOURCE_DEM_DATE 2003 1 1 *
AGENCY "WESTERN MAPPING CENTER (WMC)" *
PRODUCER "USDA FS GEOSPATIAL SERVICE AND TECHNOLOGY CENTER" *
PRODUCTION_SYSTEM "ORBIT OR_RECTIFY V.5.2" *
STANDARD_VERSION 1996 12 *
METADATA_DATE 2003 3 25 *
DATA_FILE_SIZE 48641073 *
BYTE_COUNT 6331 * * * * * * * * * * * * * * * * * * * * *
END_USGS_HEADER *
