BEGIN_USGS_DOQ_HEADER *
QUADRANGLE_NAME "SONORA PASS" *
QUADRANT SE *
WEST_LONGITUDE -119 41 15.000 *
EAST_LONGITUDE -119 37 30.000 *
NORTH_LATITUDE 38 18 45.000 *
SOUTH_LATITUDE 38 15 0.000 *
PRODUCTION_DATE 2000 11 14 *
RASTER_ORDER LEFT_RIGHT/TOP_BOTTOM *
BAND_ORGANIZATION "SINGLE FILE" *
BAND_CONTENT BLACK&WHITE *
BITS_PER_PIXEL 8 *
SAMPLES_AND_LINES 6355 7701 *
HORIZONTAL_DATUM NAD83 *
HORIZONTAL_COORDINATE_SYSTEM UTM *
COORDINATE_ZONE 11 *
HORIZONTAL_UNITS METERS *
HORIZONTAL_RESOLUTION 1.0 *
SECONDARY_HORIZONTAL_DATUM NAD27 *
XY_ORIGIN 264439.728 4244205.759 *
SECONDARY_XY_ORIGIN 264522.166 4244006.543 *
NATION US *
STATE CA *
NW_QUAD_CORNER_XY 265029.344 4243906.259 *
NE_QUAD_CORNER_XY 270494.681 4243749.066 *
SE_QUAD_CORNER_XY 270297.660 4236812.521 *
SW_QUAD_CORNER_XY 264827.623 4236969.632 *
SECONDARY_NW_QUAD_XY 265023.425 4243699.933 *
SECONDARY_NE_QUAD_XY 270488.900 4243542.736 *
SECONDARY_SE_QUAD_XY 270291.883 4236606.337 *
SECONDARY_SW_QUAD_XY 264821.708 4236763.452 *
RMSE_XY 2.41 *
IMAGE_SOURCE "BLACK AND WHITE FILM" *
SOURCE_IMAGE_ID "NAPP 10554 284" *
SOURCE_IMAGE_DATE 1998 8 25 *
SOURCE_IMAGE_ID "NAPP 10554 285" *
SOURCE_IMAGE_DATE 1998 8 25 *
SOURCE_IMAGE_ID "NAPP 10554 283" *
SOURCE_IMAGE_DATE 1998 8 25 *
SOURCE_IMAGE_ID "NAPP 10564 268" *
SOURCE_IMAGE_DATE 1998 9 18 *
SOURCE_IMAGE_ID "NAPP 10564 267" *
SOURCE_IMAGE_DATE 1998 9 18 *
SOURCE_IMAGE_ID "NAPP 10564 266" *
SOURCE_IMAGE_DATE 1998 9 18 *
SOURCE_IMAGE_ID "NAPP 10554 260" *
SOURCE_IMAGE_DATE 1998 8 25 *
SOURCE_IMAGE_ID "NAPP 10554 261" *
SOURCE_IMAGE_DATE 1998 8 25 *
SOURCE_IMAGE_ID "NAPP 10554 262" *
SOURCE_IMAGE_DATE 1998 8 25 *
SOURCE_DEM_DATE 2000 0 0 *
AGENCY "WESTERN MAPPING CENTER (WMC)" *
PRODUCER "USDA FS GEOSPATIAL SERVICE AND TECHNOLOGY CENTER" *
PRODUCTION_SYSTEM "ORBIT OR_RECTIFY V.5.2" *
STANDARD_VERSION 1996 12 *
METADATA_DATE 2000 11 16 *
DATA_FILE_SIZE 48946210 *
BYTE_COUNT 6355 * * * * * * * * * * * * * * * * * * * * *
END_USGS_HEADER *
