BEGIN_USGS_DOQ_HEADER *
QUADRANGLE_NAME "SONORA PASS" *
QUADRANT SW *
WEST_LONGITUDE -119 45 0.000 *
EAST_LONGITUDE -119 41 15.000 *
NORTH_LATITUDE 38 18 45.000 *
SOUTH_LATITUDE 38 15 0.000 *
PRODUCTION_DATE 2000 11 14 *
RASTER_ORDER LEFT_RIGHT/TOP_BOTTOM *
BAND_ORGANIZATION "SINGLE FILE" *
BAND_CONTENT BLACK&WHITE *
BITS_PER_PIXEL 8 *
SAMPLES_AND_LINES 6360 7705 *
HORIZONTAL_DATUM NAD83 *
HORIZONTAL_COORDINATE_SYSTEM UTM *
COORDINATE_ZONE 11 *
HORIZONTAL_UNITS METERS *
HORIZONTAL_RESOLUTION 1.0 *
SECONDARY_HORIZONTAL_DATUM NAD27 *
XY_ORIGIN 258968.929 4244366.659 *
SECONDARY_XY_ORIGIN 259051.432 4244167.451 *
NATION US *
STATE CA *
NW_QUAD_CORNER_XY 259563.942 4244067.159 *
NE_QUAD_CORNER_XY 265029.344 4243906.259 *
SE_QUAD_CORNER_XY 264827.623 4236969.632 *
SW_QUAD_CORNER_XY 259357.520 4237130.448 *
SECONDARY_NW_QUAD_XY 259557.885 4243860.834 *
SECONDARY_NE_QUAD_XY 265023.425 4243699.933 *
SECONDARY_SE_QUAD_XY 264821.708 4236763.452 *
SECONDARY_SW_QUAD_XY 259351.467 4236924.269 *
RMSE_XY 2.41 *
IMAGE_SOURCE "BLACK AND WHITE FILM" *
SOURCE_IMAGE_ID "NAPP 10564 267" *
SOURCE_IMAGE_DATE 1998 9 18 *
SOURCE_IMAGE_ID "NAPP 10564 268" *
SOURCE_IMAGE_DATE 1998 9 18 *
SOURCE_IMAGE_ID "NAPP 10564 266" *
SOURCE_IMAGE_DATE 1998 9 18 *
SOURCE_IMAGE_ID "NAPP 10554 197" *
SOURCE_IMAGE_DATE 1998 8 25 *
SOURCE_IMAGE_ID "NAPP 10554 196" *
SOURCE_IMAGE_DATE 1998 8 25 *
SOURCE_IMAGE_ID "NAPP 10554 195" *
SOURCE_IMAGE_DATE 1998 8 25 *
SOURCE_IMAGE_ID "NAPP 10554 285" *
SOURCE_IMAGE_DATE 1998 8 25 *
SOURCE_IMAGE_ID "NAPP 10554 284" *
SOURCE_IMAGE_DATE 1998 8 25 *
SOURCE_IMAGE_ID "NAPP 10554 283" *
SOURCE_IMAGE_DATE 1998 8 25 *
SOURCE_DEM_DATE 2000 0 0 *
AGENCY "WESTERN MAPPING CENTER (WMC)" *
PRODUCER "USDA FS GEOSPATIAL SERVICE AND TECHNOLOGY CENTER" *
PRODUCTION_SYSTEM "ORBIT OR_RECTIFY V.5.2" *
STANDARD_VERSION 1996 12 *
METADATA_DATE 2000 11 16 *
DATA_FILE_SIZE 49010160 *
BYTE_COUNT 6360 * * * * * * * * * * * * * * * * * * * * *
END_USGS_HEADER *
