BEGIN_USGS_DOQ_HEADER *
QUADRANGLE_NAME "DONNELL LAKE" *
QUADRANT NW *
WEST_LONGITUDE -120 0 0.000 *
EAST_LONGITUDE -119 56 15.000 *
NORTH_LATITUDE 38 22 30.000 *
SOUTH_LATITUDE 38 18 45.000 *
PRODUCTION_DATE 2000 11 13 *
RASTER_ORDER LEFT_RIGHT/TOP_BOTTOM *
BAND_ORGANIZATION "SINGLE FILE" *
BAND_CONTENT BLACK&WHITE *
BITS_PER_PIXEL 8 *
SAMPLES_AND_LINES 6376 7720 *
HORIZONTAL_DATUM NAD83 *
HORIZONTAL_COORDINATE_SYSTEM UTM *
COORDINATE_ZONE 11 *
HORIZONTAL_UNITS METERS *
HORIZONTAL_RESOLUTION 1.0 *
SECONDARY_HORIZONTAL_DATUM NAD27 *
XY_ORIGIN 237312.328 4251984.948 *
SECONDARY_XY_ORIGIN 237394.992 4251785.246 *
NATION US *
STATE CA *
NW_QUAD_CORNER_XY 237927.199 4251684.948 *
NE_QUAD_CORNER_XY 243388.166 4251509.128 *
SE_QUAD_CORNER_XY 243167.331 4244572.099 *
SW_QUAD_CORNER_XY 237701.653 4244747.828 *
SECONDARY_NW_QUAD_XY 237920.586 4251478.496 *
SECONDARY_NE_QUAD_XY 243381.691 4251302.672 *
SECONDARY_SE_QUAD_XY 243160.860 4244365.787 *
SECONDARY_SW_QUAD_XY 237695.045 4244541.521 *
RMSE_XY 2.46 *
IMAGE_SOURCE "BLACK AND WHITE FILM" *
SOURCE_IMAGE_ID "NAPP 10554 49" *
SOURCE_IMAGE_DATE 1998 8 25 *
SOURCE_IMAGE_ID "NAPP 10554 48" *
SOURCE_IMAGE_DATE 1998 8 25 *
SOURCE_IMAGE_ID "NAPP 10554 50" *
SOURCE_IMAGE_DATE 1998 8 25 *
SOURCE_IMAGE_ID "NAPP 10565 39" *
SOURCE_IMAGE_DATE 1998 9 19 *
SOURCE_IMAGE_ID "NAPP 10565 38" *
SOURCE_IMAGE_DATE 1998 9 19 *
SOURCE_IMAGE_ID "NAPP 10565 37" *
SOURCE_IMAGE_DATE 1998 9 19 *
SOURCE_IMAGE_ID "NAPP 10554 125" *
SOURCE_IMAGE_DATE 1998 8 25 *
SOURCE_IMAGE_ID "NAPP 10554 124" *
SOURCE_IMAGE_DATE 1998 8 25 *
SOURCE_IMAGE_ID "NAPP 10554 123" *
SOURCE_IMAGE_DATE 1998 8 25 *
SOURCE_DEM_DATE 2000 0 0 *
AGENCY "WESTERN MAPPING CENTER (WMC)" *
PRODUCER "USDA FS GEOSPATIAL SERVICE AND TECHNOLOGY CENTER" *
PRODUCTION_SYSTEM "ORBIT OR_RECTIFY V.5.2" *
STANDARD_VERSION 1996 12 *
METADATA_DATE 2000 11 16 *
DATA_FILE_SIZE 49229096 *
BYTE_COUNT 6376 * * * * * * * * * * * * * * * * * * * * *
END_USGS_HEADER *
