BEGIN_USGS_DOQ_HEADER *
QUADRANGLE_NAME "SWEETWATER CREEK" *
QUADRANT SW *
WEST_LONGITUDE -119 15 0.000 *
EAST_LONGITUDE -119 11 15.000 *
NORTH_LATITUDE 38 26 15.000 *
SOUTH_LATITUDE 38 22 30.000 *
PRODUCTION_DATE 2003 1 29 *
RASTER_ORDER LEFT_RIGHT/TOP_BOTTOM *
BAND_ORGANIZATION "SINGLE FILE" *
BAND_CONTENT BLACK&WHITE *
BITS_PER_PIXEL 8 *
SAMPLES_AND_LINES 6311 7675 *
HORIZONTAL_DATUM NAD83 *
HORIZONTAL_COORDINATE_SYSTEM UTM *
COORDINATE_ZONE 11 *
HORIZONTAL_UNITS METERS *
HORIZONTAL_RESOLUTION 1.0 *
SECONDARY_HORIZONTAL_DATUM NAD27 *
XY_ORIGIN 303067.869 4257056.081 *
SECONDARY_XY_ORIGIN 303149.463 4256856.637 *
NATION US *
STATE CA *
STATE NV *
NW_QUAD_CORNER_XY 303623.787 4256756.081 *
NE_QUAD_CORNER_XY 309079.298 4256624.681 *
SE_QUAD_CORNER_XY 308914.705 4249688.531 *
SW_QUAD_CORNER_XY 303454.485 4249819.863 *
SECONDARY_NW_QUAD_XY 303618.827 4256549.440 *
SECONDARY_NE_QUAD_XY 309074.476 4256418.036 *
SECONDARY_SE_QUAD_XY 308909.887 4249482.029 *
SECONDARY_SW_QUAD_XY 303449.528 4249613.366 *
RMSE_XY 1.82 *
IMAGE_SOURCE "BLACK AND WHITE FILM" *
SOURCE_IMAGE_ID "NAPP 10565 111" *
SOURCE_IMAGE_DATE 1998 9 19 *
SOURCE_IMAGE_ID "NAPP 10565 112" *
SOURCE_IMAGE_DATE 1998 9 19 *
SOURCE_IMAGE_ID "NAPP 10565 110" *
SOURCE_IMAGE_DATE 1998 9 19 *
SOURCE_IMAGE_ID "NAPP 10564 204" *
SOURCE_IMAGE_DATE 1998 9 18 *
SOURCE_IMAGE_ID "NAPP 10564 205" *
SOURCE_IMAGE_DATE 1998 9 18 *
SOURCE_IMAGE_ID "NAPP 10564 206" *
SOURCE_IMAGE_DATE 1998 9 18 *
SOURCE_IMAGE_ID "NAPP 10569 5" *
SOURCE_IMAGE_DATE 1999 8 3 *
SOURCE_IMAGE_ID "NAPP 10569 4" *
SOURCE_IMAGE_DATE 1999 8 3 *
SOURCE_IMAGE_ID "NAPP 10569 3" *
SOURCE_IMAGE_DATE 1999 8 3 *
SOURCE_DEM_DATE 2003 1 1 *
AGENCY "WESTERN MAPPING CENTER (WMC)" *
PRODUCER "USDA FS GEOSPATIAL SERVICE AND TECHNOLOGY CENTER" *
PRODUCTION_SYSTEM "ORBIT OR_RECTIFY V.5.2" *
STANDARD_VERSION 1996 12 *
METADATA_DATE 2003 3 18 *
DATA_FILE_SIZE 48443236 *
BYTE_COUNT 6311 * * * * * * * * * * * * * * * * * * *
END_USGS_HEADER *
