BEGIN_USGS_DOQ_HEADER *
QUADRANGLE_NAME "MOUNT PATTERSON" 3.45 or 7.5-min. name*
QUADRANT SE quadrant indicator if cell size = 3.75-minutes*
WEST_LONGITUDE -119 18 45.000 signed deg min sec SDDD MM SS.SSS*
EAST_LONGITUDE -119 15 0.000 signed deg min sec SDDD MM SS.SSS*
NORTH_LATITUDE 38 26 15.000 signed deg min sec SDDD MM SS.SSS*
SOUTH_LATITUDE 38 22 30.000 signed deg min sec SDDD MM SS.SSS*
PRODUCTION_DATE 1999 11 4 yyyy mm dd*
RASTER_ORDER LEFT_RIGHT/TOP_BOTTOM video display order*
BAND_ORGANIZATION "SINGLE FILE" single file or BSQ, or BIL or BIP*
BAND_CONTENT BLACK&WHITE black&white or red green blue*
BITS_PER_PIXEL 8 radiometric resolution*
SAMPLES_AND_LINES 6319 7682 number of columns and rows*
HORIZONTAL_DATUM NAD83 primary horizontal datum*
HORIZONTAL_COORDINATE_SYSTEM UTM *
COORDINATE_ZONE 11 coordinate system zone number*
HORIZONTAL_UNITS METERS coordinate system units*
HORIZONTAL_RESOLUTION 1.00 pixel horiz. ground sample distance*
SECONDARY_HORIZONTAL_DATUM NAD27 secondary horizontal datum*
XY_ORIGIN 297606.000 4257192.000 coord. of upper left pixel pri. datum*
SECONDARY_XY_ORIGIN 297687.719 4256992.598 coord upper left pixel sec datum*
NATION US nation code*
STATE CA state fip code*
NW_QUAD_CORNER_XY 298168.222 4256891.187 XY coords. of pri. NW quad corner*
NE_QUAD_CORNER_XY 303623.787 4256756.081 XY coords. of pri. NE quad corner*
SE_QUAD_CORNER_XY 303454.485 4249819.863 XY coords. of pri. SE quad corner*
SW_QUAD_CORNER_XY 297994.211 4249954.899 XY coords. of pri. SW quad corner*
SECONDARY_NW_QUAD_XY 298163.120 4256684.548 XY coords. - sec. NW quad cor.*
SECONDARY_NE_QUAD_XY 303618.823 4256549.438 XY coords. - sec. NE quad cor.*
SECONDARY_SE_QUAD_XY 303449.524 4249613.365 XY coords. - sec. SE quad cor.*
SECONDARY_SW_QUAD_XY 297989.112 4249748.405 XY coords. - sec. SW quad cor.*
RMSE_XY 1.90 doq horiz. accuracy*
IMAGE_SOURCE "BLACK AND WHITE FILM" b&w, cir, natural color, other*
SOURCE_IMAGE_ID "NAPP 6309 027" source image id*
SOURCE_IMAGE_DATE 1993 09 24 source image date as yyyy mm dd*
IMAGE_SOURCE "BLACK AND WHITE FILM" b&w, cir, natural color, other*
SOURCE_IMAGE_ID "NAPP 6309 009" source image id*
SOURCE_IMAGE_DATE 1993 09 24 source image date as yyyy mm dd*
IMAGE_SOURCE "BLACK AND WHITE FILM" b&w, cir, natural color, other*
SOURCE_IMAGE_ID "NAPP 6309 007" source image id*
SOURCE_IMAGE_DATE 1993 09 24 source image date as yyyy mm dd*
IMAGE_SOURCE "BLACK AND WHITE FILM" b&w, cir, natural color, other*
SOURCE_IMAGE_ID "NAPP 6309 026" source image id*
SOURCE_IMAGE_DATE 1993 09 24 source image date as yyyy mm dd*
IMAGE_SOURCE "BLACK AND WHITE FILM" b&w, cir, natural color, other*
SOURCE_IMAGE_ID "NAPP 6309 028" source image id*
SOURCE_IMAGE_DATE 1993 09 24 source image date as yyyy mm dd*
IMAGE_SOURCE "BLACK AND WHITE FILM" b&w, cir, natural color, other*
SOURCE_IMAGE_ID "NAPP 6307 059" source image id*
SOURCE_IMAGE_DATE 1993 07 19 source image date as yyyy mm dd*
IMAGE_SOURCE "BLACK AND WHITE FILM" b&w, cir, natural color, other*
SOURCE_IMAGE_ID "NAPP 6307 058" source image id*
SOURCE_IMAGE_DATE 1993 07 19 source image date as yyyy mm dd*
SOURCE_DEM_DATE 1989 00 00 source dem date yyyy mm dd*
AGENCY "WESTERN MAPPING CENTER (WMC)" oversight agency*
PRODUCER "SCIENCE APPLICATIONS INTERNATIONAL" producer/contractor*
PRODUCTION_SYSTEM "GIS/MAGIC" production system*
STANDARD_VERSION 1996 12 version of DOQ standard*
METADATA_DATE 1999 11 29 date created or changed, yyyy mm dd*
DATA_FILE_SIZE 48548877 data set size in bytes*
BYTE_COUNT 6319 header byte count* * * * * * * * * * * * * * * * * *
END_USGS_HEADER *
