BEGIN_USGS_DOQ_HEADER *
QUADRANGLE_NAME "CHRIS FLAT" 3.45 or 7.5-min. name*
QUADRANT SE quadrant indicator if cell size = 3.75-minutes*
WEST_LONGITUDE -119 26 15.000 signed deg min sec SDDD MM SS.SSS*
EAST_LONGITUDE -119 22 30.000 signed deg min sec SDDD MM SS.SSS*
NORTH_LATITUDE 38 26 15.000 signed deg min sec SDDD MM SS.SSS*
SOUTH_LATITUDE 38 22 30.000 signed deg min sec SDDD MM SS.SSS*
PRODUCTION_DATE 1999 11 1 yyyy mm dd*
RASTER_ORDER LEFT_RIGHT/TOP_BOTTOM video display order*
BAND_ORGANIZATION "SINGLE FILE" single file or BSQ, or BIL or BIP*
BAND_CONTENT BLACK&WHITE black&white or red green blue*
BITS_PER_PIXEL 8 radiometric resolution*
SAMPLES_AND_LINES 6329 7689 number of columns and rows*
HORIZONTAL_DATUM NAD83 primary horizontal datum*
HORIZONTAL_COORDINATE_SYSTEM UTM *
COORDINATE_ZONE 11 coordinate system zone number*
HORIZONTAL_UNITS METERS coordinate system units*
HORIZONTAL_RESOLUTION 1.00 pixel horiz. ground sample distance*
SECONDARY_HORIZONTAL_DATUM NAD27 secondary horizontal datum*
XY_ORIGIN 286685.000 4257473.000 coord. of upper left pixel pri. datum*
SECONDARY_XY_ORIGIN 286766.978 4257273.685 coord upper left pixel sec datum*
NATION US nation code*
STATE CA state fip code*
NW_QUAD_CORNER_XY 287256.927 4257172.520 XY coords. of pri. NW quad corner*
NE_QUAD_CORNER_XY 292712.603 4257030.000 XY coords. of pri. NE quad corner*
SE_QUAD_CORNER_XY 292533.881 4250093.641 XY coords. of pri. SE quad corner*
SW_QUAD_CORNER_XY 287073.494 4250236.089 XY coords. of pri. SW quad corner*
SECONDARY_NW_QUAD_XY 287251.549 4256965.889 XY coords. - sec. NW quad cor.*
SECONDARY_NE_QUAD_XY 292707.363 4256823.364 XY coords. - sec. NE quad cor.*
SECONDARY_SE_QUAD_XY 292528.644 4249887.150 XY coords. - sec. SE quad cor.*
SECONDARY_SW_QUAD_XY 287068.120 4250029.601 XY coords. - sec. SW quad cor.*
RMSE_XY 2.50 doq horiz. accuracy*
IMAGE_SOURCE "BLACK AND WHITE FILM" b&w, cir, natural color, other*
SOURCE_IMAGE_ID "NAPP 6308 216" source image id*
SOURCE_IMAGE_DATE 1993 09 24 source image date as yyyy mm dd*
IMAGE_SOURCE "BLACK AND WHITE FILM" b&w, cir, natural color, other*
SOURCE_IMAGE_ID "NAPP 6308 031" source image id*
SOURCE_IMAGE_DATE 1993 09 24 source image date as yyyy mm dd*
IMAGE_SOURCE "BLACK AND WHITE FILM" b&w, cir, natural color, other*
SOURCE_IMAGE_ID "NAPP 6308 217" source image id*
SOURCE_IMAGE_DATE 1993 09 24 source image date as yyyy mm dd*
SOURCE_DEM_DATE 1953 00 00 source dem date yyyy mm dd*
AGENCY "WESTERN MAPPING CENTER (WMC)" oversight agency*
PRODUCER "SCIENCE APPLICATIONS INTERNATIONAL" producer/contractor*
PRODUCTION_SYSTEM "GIS/MAGIC" production system*
STANDARD_VERSION 1996 12 version of DOQ standard*
METADATA_DATE 1999 11 29 date created or changed, yyyy mm dd*
DATA_FILE_SIZE 48670010 data set size in bytes*
BYTE_COUNT 6329 header byte count* * * * * * * * * * * * * * * * * * * * * * * * * * * * * * *
END_USGS_HEADER *
