BEGIN_USGS_DOQ_HEADER *
QUADRANGLE_NAME "LOST CANNON PEAK" 3.45 or 7.5-min. name*
QUADRANT NE quadrant indicator if cell size = 3.75-minutes*
WEST_LONGITUDE -119 33 45.000 signed deg min sec SDDD MM SS.SSS*
EAST_LONGITUDE -119 30 0.000 signed deg min sec SDDD MM SS.SSS*
NORTH_LATITUDE 38 30 0.000 signed deg min sec SDDD MM SS.SSS*
SOUTH_LATITUDE 38 26 15.000 signed deg min sec SDDD MM SS.SSS*
PRODUCTION_DATE 1999 11 1 yyyy mm dd*
RASTER_ORDER LEFT_RIGHT/TOP_BOTTOM video display order*
BAND_ORGANIZATION "SINGLE FILE" single file or BSQ, or BIL or BIP*
BAND_CONTENT BLACK&WHITE black&white or red green blue*
BITS_PER_PIXEL 8 radiometric resolution*
SAMPLES_AND_LINES 6335 7697 number of columns and rows*
HORIZONTAL_DATUM NAD83 primary horizontal datum*
HORIZONTAL_COORDINATE_SYSTEM UTM *
COORDINATE_ZONE 11 coordinate system zone number*
HORIZONTAL_UNITS METERS coordinate system units*
HORIZONTAL_RESOLUTION 1.00 pixel horiz. ground sample distance*
SECONDARY_HORIZONTAL_DATUM NAD27 secondary horizontal datum*
XY_ORIGIN 275956.000 4264706.000 coord. of upper left pixel pri. datum*
SECONDARY_XY_ORIGIN 276038.121 4264506.739 coord upper left pixel sec datum*
NATION US nation code*
STATE CA state fip code*
NW_QUAD_CORNER_XY 276538.522 4264405.328 XY coords. of pri. NW quad corner*
NE_QUAD_CORNER_XY 281989.597 4264255.315 XY coords. of pri. NE quad corner*
SE_QUAD_CORNER_XY 281801.193 4257318.748 XY coords. of pri. SE quad corner*
SW_QUAD_CORNER_XY 276345.399 4257468.685 XY coords. of pri. SW quad corner*
SECONDARY_NW_QUAD_XY 276532.864 4264198.561 XY coords. - sec. NW quad cor.*
SECONDARY_NE_QUAD_XY 281984.077 4264048.544 XY coords. - sec. NE quad cor.*
SECONDARY_SE_QUAD_XY 281795.676 4257112.121 XY coords. - sec. SE quad cor.*
SECONDARY_SW_QUAD_XY 276339.745 4257262.061 XY coords. - sec. SW quad cor.*
RMSE_XY 1.90 doq horiz. accuracy*
IMAGE_SOURCE "BLACK AND WHITE FILM" b&w, cir, natural color, other*
SOURCE_IMAGE_ID "NAPP 6308 035" source image id*
SOURCE_IMAGE_DATE 1993 09 24 source image date as yyyy mm dd*
IMAGE_SOURCE "BLACK AND WHITE FILM" b&w, cir, natural color, other*
SOURCE_IMAGE_ID "NAPP 6308 036" source image id*
SOURCE_IMAGE_DATE 1993 09 24 source image date as yyyy mm dd*
IMAGE_SOURCE "BLACK AND WHITE FILM" b&w, cir, natural color, other*
SOURCE_IMAGE_ID "NAPP 6308 034" source image id*
SOURCE_IMAGE_DATE 1993 09 24 source image date as yyyy mm dd*
SOURCE_DEM_DATE 1954 00 00 source dem date yyyy mm dd*
AGENCY "WESTERN MAPPING CENTER (WMC)" oversight agency*
PRODUCER "SCIENCE APPLICATIONS INTERNATIONAL" producer/contractor*
PRODUCTION_SYSTEM "GIS/MAGIC" production system*
STANDARD_VERSION 1996 12 version of DOQ standard*
METADATA_DATE 1999 11 29 date created or changed, yyyy mm dd*
DATA_FILE_SIZE 48766830 data set size in bytes*
BYTE_COUNT 6335 header byte count* * * * * * * * * * * * * * * * * * * * * * * * * * * * * * *
END_USGS_HEADER *
