BEGIN_USGS_DOQ_HEADER *
QUADRANGLE_NAME "LOST CANNON PEAK" *
QUADRANT NE *
WEST_LONGITUDE -119 33 45.000 *
EAST_LONGITUDE -119 30 0.000 *
NORTH_LATITUDE 38 30 0.000 *
SOUTH_LATITUDE 38 26 15.000 *
PRODUCTION_DATE 2003 1 28 *
RASTER_ORDER LEFT_RIGHT/TOP_BOTTOM *
BAND_ORGANIZATION "SINGLE FILE" *
BAND_CONTENT BLACK&WHITE *
BITS_PER_PIXEL 8 *
SAMPLES_AND_LINES 6332 7694 *
HORIZONTAL_DATUM NAD83 *
HORIZONTAL_COORDINATE_SYSTEM UTM *
COORDINATE_ZONE 11 *
HORIZONTAL_UNITS METERS *
HORIZONTAL_RESOLUTION 1.0 *
SECONDARY_HORIZONTAL_DATUM NAD27 *
XY_ORIGIN 275957.566 4264705.328 *
SECONDARY_XY_ORIGIN 276039.692 4264506.063 *
NATION US *
STATE CA *
NW_QUAD_CORNER_XY 276538.522 4264405.328 *
NE_QUAD_CORNER_XY 281989.597 4264255.315 *
SE_QUAD_CORNER_XY 281801.193 4257318.749 *
SW_QUAD_CORNER_XY 276345.399 4257468.686 *
SECONDARY_NW_QUAD_XY 276532.867 4264198.562 *
SECONDARY_NE_QUAD_XY 281984.081 4264048.545 *
SECONDARY_SE_QUAD_XY 281795.680 4257112.122 *
SECONDARY_SW_QUAD_XY 276339.748 4257262.063 *
RMSE_XY 2.07 *
IMAGE_SOURCE "BLACK AND WHITE FILM" *
SOURCE_IMAGE_ID "NAPP 10554 244" *
SOURCE_IMAGE_DATE 1998 8 25 *
SOURCE_IMAGE_ID "NAPP 10554 245" *
SOURCE_IMAGE_DATE 1998 8 25 *
SOURCE_IMAGE_ID "NAPP 10554 243" *
SOURCE_IMAGE_DATE 1998 8 25 *
SOURCE_IMAGE_ID "NAPP 10554 266" *
SOURCE_IMAGE_DATE 1998 8 25 *
SOURCE_IMAGE_ID "NAPP 10554 267" *
SOURCE_IMAGE_DATE 1998 8 25 *
SOURCE_IMAGE_ID "NAPP 10554 268" *
SOURCE_IMAGE_DATE 1998 8 25 *
SOURCE_IMAGE_ID "NAPP 10564 215" *
SOURCE_IMAGE_DATE 1998 9 18 *
SOURCE_IMAGE_ID "NAPP 10564 216" *
SOURCE_IMAGE_DATE 1998 9 18 *
SOURCE_IMAGE_ID "NAPP 10564 217" *
SOURCE_IMAGE_DATE 1998 9 18 *
SOURCE_DEM_DATE 2003 1 1 *
AGENCY "WESTERN MAPPING CENTER (WMC)" *
PRODUCER "USDA FS GEOSPATIAL SERVICE AND TECHNOLOGY CENTER" *
PRODUCTION_SYSTEM "ORBIT OR_RECTIFY V.5.2" *
STANDARD_VERSION 1996 12 *
METADATA_DATE 2003 3 6 *
DATA_FILE_SIZE 48724740 *
BYTE_COUNT 6332 * * * * * * * * * * * * * * * * * * * * *
END_USGS_HEADER *
