BEGIN_USGS_DOQ_HEADER *
QUADRANGLE_NAME "DARDANELLES CONE" 3.45 or 7.5-min. name*
QUADRANT SE quadrant indicator if cell size = 3.75-minutes*
WEST_LONGITUDE -119 48 45.000 signed deg min sec SDDD MM SS.SSS*
EAST_LONGITUDE -119 45 0.000 signed deg min sec SDDD MM SS.SSS*
NORTH_LATITUDE 38 26 15.000 signed deg min sec SDDD MM SS.SSS*
SOUTH_LATITUDE 38 22 30.000 signed deg min sec SDDD MM SS.SSS*
PRODUCTION_DATE 2000 11 27 yyyy mm dd*
RASTER_ORDER LEFT_RIGHT/TOP_BOTTOM video display order*
BAND_ORGANIZATION "SINGLE FILE" single file or BSQ, or BIL or BIP*
BAND_CONTENT BLACK&WHITE black&white or red green blue*
BITS_PER_PIXEL 8 radiometric resolution*
SAMPLES_AND_LINES 6359 7712 number of columns and rows*
HORIZONTAL_DATUM NAD83 primary horizontal datum*
HORIZONTAL_COORDINATE_SYSTEM UTM *
COORDINATE_ZONE 11 coordinate system zone number*
HORIZONTAL_UNITS METERS coordinate system units*
HORIZONTAL_RESOLUTION 1.00 pixel horiz. ground sample distance*
SECONDARY_HORIZONTAL_DATUM NAD27 secondary horizontal datum*
XY_ORIGIN 253920.000 4258406.000 coord. of upper left pixel pri. datum*
SECONDARY_XY_ORIGIN 254002.470 4258206.629 coord upper left pixel sec datum*
NATION US nation code*
STATE CA state fip code*
NW_QUAD_CORNER_XY 254521.602 4258105.527 XY coords. of pri. NW quad corner*
NE_QUAD_CORNER_XY 259977.647 4257940.751 XY coords. of pri. NE quad corner*
SE_QUAD_CORNER_XY 259770.652 4251003.926 XY coords. of pri. SE quad corner*
SW_QUAD_CORNER_XY 254309.891 4251168.617 XY coords. of pri. SW quad corner*
SECONDARY_NW_QUAD_XY 254515.395 4257898.919 XY coords. - sec. NW quad cor.*
SECONDARY_NE_QUAD_XY 259971.579 4257734.139 XY coords. - sec. NE quad cor.*
SECONDARY_SE_QUAD_XY 259764.588 4250797.458 XY coords. - sec. SE quad cor.*
SECONDARY_SW_QUAD_XY 254303.689 4250962.153 XY coords. - sec. SW quad cor.*
RMSE_XY 4.30 doq horiz. accuracy*
IMAGE_SOURCE "BLACK AND WHITE FILM" b&w, cir, natural color, other*
SOURCE_IMAGE_ID "NAPP 10554 192" source image id*
SOURCE_IMAGE_DATE 1998 08 25 source image date as yyyy mm dd*
SOURCE_IMAGE_ID "NAPP 10554 214" source image id*
SOURCE_IMAGE_DATE 1998 08 25 source image date as yyyy mm dd*
SOURCE_IMAGE_ID "NAPP 10554 193" source image id*
SOURCE_IMAGE_DATE 1998 08 25 source image date as yyyy mm dd*
SOURCE_IMAGE_ID "NAPP 10554 191" source image id*
SOURCE_IMAGE_DATE 1998 08 25 source image date as yyyy mm dd*
SOURCE_DEM_DATE 2000 01 01 source dem date yyyy mm dd*
AGENCY "WESTERN MAPPING CENTER (WMC)" oversight agency*
PRODUCER "SCIENCE APPLICATIONS INTERNATIONAL" producer/contractor*
PRODUCTION_SYSTEM "GIS/MAGIC" production system*
STANDARD_VERSION 1996 12 version of DOQ standard*
METADATA_DATE 2000 12 04 date created or changed, yyyy mm dd*
DATA_FILE_SIZE 49046967 data set size in bytes*
BYTE_COUNT 6359 header byte count* * * * * * * * * * * * * * * * * * * * * * * * * * * * * * *
END_USGS_HEADER *
