BEGIN_USGS_DOQ_HEADER *
QUADRANGLE_NAME "NYE CANYON" *
QUADRANT NE *
WEST_LONGITUDE -119 11 15.000 *
EAST_LONGITUDE -119 7 30.000 *
NORTH_LATITUDE 38 37 30.000 *
SOUTH_LATITUDE 38 33 45.000 *
PRODUCTION_DATE 2003 1 29 *
RASTER_ORDER LEFT_RIGHT/TOP_BOTTOM *
BAND_ORGANIZATION "SINGLE FILE" *
BAND_CONTENT BLACK&WHITE *
BITS_PER_PIXEL 8 *
SAMPLES_AND_LINES 6293 7672 *
HORIZONTAL_DATUM NAD83 *
HORIZONTAL_COORDINATE_SYSTEM UTM *
COORDINATE_ZONE 11 *
HORIZONTAL_UNITS METERS *
HORIZONTAL_RESOLUTION 1.0 *
SECONDARY_HORIZONTAL_DATUM NAD27 *
XY_ORIGIN 309022.999 4277733.514 *
SECONDARY_XY_ORIGIN 309104.291 4277533.851 *
NATION US *
STATE NV *
NW_QUAD_CORNER_XY 309574.444 4277433.514 *
NE_QUAD_CORNER_XY 315015.738 4277305.627 *
SE_QUAD_CORNER_XY 314855.190 4270369.350 *
SW_QUAD_CORNER_XY 309409.168 4270497.173 *
SECONDARY_NW_QUAD_XY 309569.611 4277226.442 *
SECONDARY_NE_QUAD_XY 315011.043 4277098.553 *
SECONDARY_SE_QUAD_XY 314850.499 4270162.417 *
SECONDARY_SW_QUAD_XY 309404.338 4270290.243 *
RMSE_XY 1.82 *
IMAGE_SOURCE "BLACK AND WHITE FILM" *
SOURCE_IMAGE_ID "NAPP 11552 16" *
SOURCE_IMAGE_DATE 1999 9 9 *
SOURCE_IMAGE_ID "NAPP 11552 17" *
SOURCE_IMAGE_DATE 1999 9 9 *
SOURCE_IMAGE_ID "NAPP 11552 15" *
SOURCE_IMAGE_DATE 1999 9 9 *
SOURCE_IMAGE_ID "NAPP 11528 12" *
SOURCE_IMAGE_DATE 1999 8 29 *
SOURCE_IMAGE_ID "NAPP 11528 13" *
SOURCE_IMAGE_DATE 1999 8 29 *
SOURCE_IMAGE_ID "NAPP 11528 14" *
SOURCE_IMAGE_DATE 1999 8 29 *
SOURCE_IMAGE_ID "NAPP 11552 22" *
SOURCE_IMAGE_DATE 1999 9 9 *
SOURCE_IMAGE_ID "NAPP 11552 23" *
SOURCE_IMAGE_DATE 1999 9 9 *
SOURCE_IMAGE_ID "NAPP 11552 24" *
SOURCE_IMAGE_DATE 1999 9 9 *
SOURCE_DEM_DATE 2003 1 1 *
AGENCY "WESTERN MAPPING CENTER (WMC)" *
PRODUCER "USDA FS GEOSPATIAL SERVICE AND TECHNOLOGY CENTER" *
PRODUCTION_SYSTEM "ORBIT OR_RECTIFY V.5.2" *
STANDARD_VERSION 1996 12 *
METADATA_DATE 2003 3 18 *
DATA_FILE_SIZE 48286189 *
BYTE_COUNT 6293 * * * * * * * * * * * * * * * * * * * *
END_USGS_HEADER *
