BEGIN_USGS_DOQ_HEADER *
QUADRANGLE_NAME "NYE CANYON" *
QUADRANT SW *
WEST_LONGITUDE -119 15 0.000 *
EAST_LONGITUDE -119 11 15.000 *
NORTH_LATITUDE 38 33 45.000 *
SOUTH_LATITUDE 38 30 0.000 *
PRODUCTION_DATE 2003 1 29 *
RASTER_ORDER LEFT_RIGHT/TOP_BOTTOM *
BAND_ORGANIZATION "SINGLE FILE" *
BAND_CONTENT BLACK&WHITE *
BITS_PER_PIXEL 8 *
SAMPLES_AND_LINES 6302 7675 *
HORIZONTAL_DATUM NAD83 *
HORIZONTAL_COORDINATE_SYSTEM UTM *
COORDINATE_ZONE 11 *
HORIZONTAL_UNITS METERS *
HORIZONTAL_RESOLUTION 1.0 *
SECONDARY_HORIZONTAL_DATUM NAD27 *
XY_ORIGIN 303406.847 4270928.705 *
SECONDARY_XY_ORIGIN 303488.297 4270729.154 *
NATION US *
STATE NV *
NW_QUAD_CORNER_XY 303963.094 4270628.705 *
NE_QUAD_CORNER_XY 309409.168 4270497.173 *
SE_QUAD_CORNER_XY 309244.119 4263560.895 *
SW_QUAD_CORNER_XY 303793.324 4263692.361 *
SECONDARY_NW_QUAD_XY 303958.127 4270421.779 *
SECONDARY_NE_QUAD_XY 309404.338 4270290.243 *
SECONDARY_SE_QUAD_XY 309239.293 4263354.107 *
SECONDARY_SW_QUAD_XY 303788.360 4263485.578 *
RMSE_XY 1.82 *
IMAGE_SOURCE "BLACK AND WHITE FILM" *
SOURCE_IMAGE_ID "NAPP 11528 11" *
SOURCE_IMAGE_DATE 1999 8 29 *
SOURCE_IMAGE_ID "NAPP 11528 10" *
SOURCE_IMAGE_DATE 1999 8 29 *
SOURCE_IMAGE_ID "NAPP 11528 12" *
SOURCE_IMAGE_DATE 1999 8 29 *
SOURCE_IMAGE_ID "NAPP 10565 130" *
SOURCE_IMAGE_DATE 1998 9 19 *
SOURCE_IMAGE_ID "NAPP 10565 131" *
SOURCE_IMAGE_DATE 1998 9 19 *
SOURCE_IMAGE_ID "NAPP 10565 132" *
SOURCE_IMAGE_DATE 1998 9 19 *
SOURCE_IMAGE_ID "NAPP 11552 19" *
SOURCE_IMAGE_DATE 1999 9 9 *
SOURCE_IMAGE_ID "NAPP 11552 18" *
SOURCE_IMAGE_DATE 1999 9 9 *
SOURCE_IMAGE_ID "NAPP 11552 17" *
SOURCE_IMAGE_DATE 1999 9 9 *
SOURCE_DEM_DATE 2003 1 1 *
AGENCY "WESTERN MAPPING CENTER (WMC)" *
PRODUCER "USDA FS GEOSPATIAL SERVICE AND TECHNOLOGY CENTER" *
PRODUCTION_SYSTEM "ORBIT OR_RECTIFY V.5.2" *
STANDARD_VERSION 1996 12 *
METADATA_DATE 2003 3 18 *
DATA_FILE_SIZE 48374152 *
BYTE_COUNT 6302 * * * * * * * * * * * * * * * * * * * *
END_USGS_HEADER *
