BEGIN_USGS_DOQ_HEADER *
QUADRANGLE_NAME "DESERT CREEK PEAK" 3.45 or 7.5-min. name*
QUADRANT SW quadrant indicator if cell size = 3.75-minutes*
WEST_LONGITUDE -119 22 30.000 signed deg min sec SDDD MM SS.SSS*
EAST_LONGITUDE -119 18 45.000 signed deg min sec SDDD MM SS.SSS*
NORTH_LATITUDE 38 33 45.000 signed deg min sec SDDD MM SS.SSS*
SOUTH_LATITUDE 38 30 0.000 signed deg min sec SDDD MM SS.SSS*
PRODUCTION_DATE 1999 11 16 yyyy mm dd*
RASTER_ORDER LEFT_RIGHT/TOP_BOTTOM video display order*
BAND_ORGANIZATION "SINGLE FILE" single file or BSQ, or BIL or BIP*
BAND_CONTENT BLACK&WHITE black&white or red green blue*
BITS_PER_PIXEL 8 radiometric resolution*
SAMPLES_AND_LINES 6315 7685 number of columns and rows*
HORIZONTAL_DATUM NAD83 primary horizontal datum*
HORIZONTAL_COORDINATE_SYSTEM UTM *
COORDINATE_ZONE 11 coordinate system zone number*
HORIZONTAL_UNITS METERS coordinate system units*
HORIZONTAL_RESOLUTION 1.00 pixel horiz. ground sample distance*
SECONDARY_HORIZONTAL_DATUM NAD27 secondary horizontal datum*
XY_ORIGIN 292503.000 4271203.000 coord. of upper left pixel pri. datum*
SECONDARY_XY_ORIGIN 292584.698 4271003.569 coord upper left pixel sec datum*
NATION US nation code*
STATE CA state fip code*
STATE NV state fip code*
NW_QUAD_CORNER_XY 293070.789 4270902.901 XY coords. of pri. NW quad corner*
NE_QUAD_CORNER_XY 298516.968 4270763.947 XY coords. of pri. NE quad corner*
SE_QUAD_CORNER_XY 298342.475 4263827.536 XY coords. of pri. SE quad corner*
SW_QUAD_CORNER_XY 292891.572 4263966.419 XY coords. of pri. SW quad corner*
SECONDARY_NW_QUAD_XY 293065.541 4270695.980 XY coords. - sec. NW quad cor.*
SECONDARY_NE_QUAD_XY 298511.859 4270557.023 XY coords. - sec. NE quad cor.*
SECONDARY_SE_QUAD_XY 298337.369 4263620.754 XY coords. - sec. SE quad cor.*
SECONDARY_SW_QUAD_XY 292886.328 4263759.641 XY coords. - sec. SW quad cor.*
RMSE_XY 1.50 doq horiz. accuracy*
IMAGE_SOURCE "BLACK AND WHITE FILM" b&w, cir, natural color, other*
SOURCE_IMAGE_ID "NAPP 6309 004" source image id*
SOURCE_IMAGE_DATE 1993 09 24 source image date as yyyy mm dd*
IMAGE_SOURCE "BLACK AND WHITE FILM" b&w, cir, natural color, other*
SOURCE_IMAGE_ID "NAPP 6308 219" source image id*
SOURCE_IMAGE_DATE 1993 09 24 source image date as yyyy mm dd*
IMAGE_SOURCE "BLACK AND WHITE FILM" b&w, cir, natural color, other*
SOURCE_IMAGE_ID "NAPP 6309 005" source image id*
SOURCE_IMAGE_DATE 1993 09 24 source image date as yyyy mm dd*
SOURCE_DEM_DATE 1982 00 00 source dem date yyyy mm dd*
AGENCY "WESTERN MAPPING CENTER (WMC)" oversight agency*
PRODUCER "SCIENCE APPLICATIONS INTERNATIONAL" producer/contractor*
PRODUCTION_SYSTEM "GIS/MAGIC" production system*
STANDARD_VERSION 1996 12 version of DOQ standard*
METADATA_DATE 1999 11 29 date created or changed, yyyy mm dd*
DATA_FILE_SIZE 48537090 data set size in bytes*
BYTE_COUNT 6315 header byte count* * * * * * * * * * * * * * * * * * * * * * * * * * * * *
END_USGS_HEADER *
