BEGIN_USGS_DOQ_HEADER *
QUADRANGLE_NAME "RISUE CANYON" 3.45 or 7.5-min. name*
QUADRANT SW quadrant indicator if cell size = 3.75-minutes*
WEST_LONGITUDE -119 30 0.000 signed deg min sec SDDD MM SS.SSS*
EAST_LONGITUDE -119 26 15.000 signed deg min sec SDDD MM SS.SSS*
NORTH_LATITUDE 38 33 45.000 signed deg min sec SDDD MM SS.SSS*
SOUTH_LATITUDE 38 30 0.000 signed deg min sec SDDD MM SS.SSS*
PRODUCTION_DATE 1998 12 2 yyyy mm dd*
RASTER_ORDER LEFT_RIGHT/TOP_BOTTOM video display order*
BAND_ORGANIZATION "SINGLE FILE" single file or BSQ, or BIL or BIP*
BAND_CONTENT BLACK&WHITE black&white or red green blue*
BITS_PER_PIXEL 8 radiometric resolution*
SAMPLES_AND_LINES 6317 7694 number of columns and rows*
HORIZONTAL_DATUM NAD83 primary horizontal datum*
HORIZONTAL_COORDINATE_SYSTEM UTM *
COORDINATE_ZONE 11 coordinate system zone number*
HORIZONTAL_UNITS METERS coordinate system units*
HORIZONTAL_RESOLUTION 1.00 pixel horiz. ground sample distance*
SECONDARY_HORIZONTAL_DATUM NAD27 secondary horizontal datum*
XY_ORIGIN 281610.000 4271494.000 coord. of upper left pixel pri. datum*
SECONDARY_XY_ORIGIN 281691.943 4271294.693 coord upper left pixel sec datum*
NATION US nation code*
STATE CA state fip code*
NW_QUAD_CORNER_XY 282178.342 4271191.907 XY coords. of pri. NW quad corner*
NE_QUAD_CORNER_XY 287624.633 4271045.531 XY coords. of pri. NE quad corner*
SE_QUAD_CORNER_XY 287440.693 4264108.978 XY coords. of pri. SE quad corner*
SW_QUAD_CORNER_XY 281989.677 4264255.280 XY coords. of pri. SW quad corner*
SECONDARY_NW_QUAD_XY 282172.818 4270984.994 XY coords. - sec. NW quad cor.*
SECONDARY_NE_QUAD_XY 287619.248 4270838.614 XY coords. - sec. NE quad cor.*
SECONDARY_SE_QUAD_XY 287435.311 4263902.203 XY coords. - sec. SE quad cor.*
SECONDARY_SW_QUAD_XY 281984.157 4264048.509 XY coords. - sec. SW quad cor.*
RMSE_XY 1.30 doq horiz. accuracy*
IMAGE_SOURCE "BLACK & WHITE FILM" b&w, cir, natural color, other*
SOURCE_IMAGE_ID "NAPP 6307 037" source image id*
SOURCE_IMAGE_DATE 1993 7 19 source image date as yyyy mm dd*
SOURCE_IMAGE_ID "NAPP 6307 039" source image id*
SOURCE_IMAGE_DATE 1993 7 19 source image date as yyyy mm dd*
SOURCE_DEM_DATE 1982 0 0 source dem date yyyy mm dd*
AGENCY "WESTERN MAPPING CENTER (WMC)" agency or agency & contractor*
PRODUCER "ROCKY MOUNTAIN MAPPING CENTER (RMMC)" producer*
PRODUCTION_SYSTEM "DV2.6.3 10/9OV2.4 5/95" production system*
STANDARD_VERSION 1996 12 version of DOQ standard*
METADATA_DATE 1998 12 8 date created or changed, yyyy mm dd*
DATA_FILE_SIZE 48609315 data set size in bytes*
BYTE_COUNT 6317 header byte count* * * * * * * * * * * * * * * * * * * * * * * * * * * * * * * * * *
END_USGS_HEADER *
