BEGIN_USGS_DOQ_HEADER *
QUADRANGLE_NAME "COLEVILLE" *
QUADRANT SW *
WEST_LONGITUDE -119 37 30.000 *
EAST_LONGITUDE -119 33 45.000 *
NORTH_LATITUDE 38 33 45.000 *
SOUTH_LATITUDE 38 30 0.000 *
PRODUCTION_DATE 2003 1 28 *
RASTER_ORDER LEFT_RIGHT/TOP_BOTTOM *
BAND_ORGANIZATION "SINGLE FILE" *
BAND_CONTENT BLACK&WHITE *
BITS_PER_PIXEL 8 *
SAMPLES_AND_LINES 6333 7698 *
HORIZONTAL_DATUM NAD83 *
HORIZONTAL_COORDINATE_SYSTEM UTM *
COORDINATE_ZONE 11 *
HORIZONTAL_UNITS METERS *
HORIZONTAL_RESOLUTION 1.0 *
SECONDARY_HORIZONTAL_DATUM NAD27 *
XY_ORIGIN 270699.384 4271795.832 *
SECONDARY_XY_ORIGIN 270781.494 4271596.534 *
NATION US *
STATE CA *
NW_QUAD_CORNER_XY 271285.502 4271495.832 *
NE_QUAD_CORNER_XY 276731.912 4271342.031 *
SE_QUAD_CORNER_XY 276538.522 4264405.328 *
SW_QUAD_CORNER_XY 271087.387 4264559.052 *
SECONDARY_NW_QUAD_XY 271279.705 4271288.927 *
SECONDARY_NE_QUAD_XY 276726.253 4271135.122 *
SECONDARY_SE_QUAD_XY 276532.867 4264198.562 *
SECONDARY_SW_QUAD_XY 271081.594 4264352.290 *
RMSE_XY 2.07 *
IMAGE_SOURCE "BLACK AND WHITE FILM" *
SOURCE_IMAGE_ID "NAPP 10554 269" *
SOURCE_IMAGE_DATE 1998 8 25 *
SOURCE_IMAGE_ID "NAPP 10554 268" *
SOURCE_IMAGE_DATE 1998 8 25 *
SOURCE_IMAGE_ID "NAPP 10554 270" *
SOURCE_IMAGE_DATE 1998 8 25 *
SOURCE_IMAGE_ID "NAPP 10564 235" *
SOURCE_IMAGE_DATE 1998 9 18 *
SOURCE_IMAGE_ID "NAPP 10564 236" *
SOURCE_IMAGE_DATE 1998 9 18 *
SOURCE_IMAGE_ID "NAPP 10564 237" *
SOURCE_IMAGE_DATE 1998 9 18 *
SOURCE_IMAGE_ID "NAPP 10554 243" *
SOURCE_IMAGE_DATE 1998 8 25 *
SOURCE_IMAGE_ID "NAPP 10564 233" *
SOURCE_IMAGE_DATE 1998 9 18 *
SOURCE_IMAGE_ID "NAPP 10564 232" *
SOURCE_IMAGE_DATE 1998 9 18 *
SOURCE_DEM_DATE 2003 1 1 *
AGENCY "WESTERN MAPPING CENTER (WMC)" *
PRODUCER "USDA FS GEOSPATIAL SERVICE AND TECHNOLOGY CENTER" *
PRODUCTION_SYSTEM "ORBIT OR_RECTIFY V.5.2" *
STANDARD_VERSION 1996 12 *
METADATA_DATE 2003 3 6 *
DATA_FILE_SIZE 48757767 *
BYTE_COUNT 6333 * * * * * * * * * * * * * * * * * * * * *
END_USGS_HEADER *
