BEGIN_USGS_DOQ_HEADER *
QUADRANGLE_NAME "WOLF CREEK" *
QUADRANT NW *
WEST_LONGITUDE -119 45 0.000 *
EAST_LONGITUDE -119 41 15.000 *
NORTH_LATITUDE 38 37 30.000 *
SOUTH_LATITUDE 38 33 45.000 *
PRODUCTION_DATE 2003 1 28 *
RASTER_ORDER LEFT_RIGHT/TOP_BOTTOM *
BAND_ORGANIZATION "SINGLE FILE" *
BAND_CONTENT BLACK&WHITE *
BITS_PER_PIXEL 8 *
SAMPLES_AND_LINES 6338 7706 *
HORIZONTAL_DATUM NAD83 *
HORIZONTAL_COORDINATE_SYSTEM UTM *
COORDINATE_ZONE 11 *
HORIZONTAL_UNITS METERS *
HORIZONTAL_RESOLUTION 1.0 *
SECONDARY_HORIZONTAL_DATUM NAD27 *
XY_ORIGIN 260004.154 4279051.570 *
SECONDARY_XY_ORIGIN 260086.307 4278852.244 *
NATION US *
STATE CA *
NW_QUAD_CORNER_XY 260600.353 4278751.570 *
NE_QUAD_CORNER_XY 266042.152 4278590.262 *
SE_QUAD_CORNER_XY 265839.031 4271653.346 *
SW_QUAD_CORNER_XY 260392.498 4271814.574 *
SECONDARY_NW_QUAD_XY 260594.274 4278544.530 *
SECONDARY_NE_QUAD_XY 266036.213 4278383.220 *
SECONDARY_SE_QUAD_XY 265833.096 4271446.445 *
SECONDARY_SW_QUAD_XY 260386.424 4271607.675 *
RMSE_XY 2.07 *
IMAGE_SOURCE "BLACK AND WHITE FILM" *
SOURCE_IMAGE_ID "NAPP 10564 257" *
SOURCE_IMAGE_DATE 1998 9 18 *
SOURCE_IMAGE_ID "NAPP 10564 258" *
SOURCE_IMAGE_DATE 1998 9 18 *
SOURCE_IMAGE_ID "NAPP 10564 256" *
SOURCE_IMAGE_DATE 1998 9 18 *
SOURCE_IMAGE_ID "NAPP 10554 185" *
SOURCE_IMAGE_DATE 1998 8 25 *
SOURCE_IMAGE_ID "NAPP 10564 237" *
SOURCE_IMAGE_DATE 1998 9 18 *
SOURCE_IMAGE_ID "NAPP 10564 238" *
SOURCE_IMAGE_DATE 1998 9 18 *
SOURCE_IMAGE_ID "NAPP 10564 239" *
SOURCE_IMAGE_DATE 1998 9 18 *
SOURCE_DEM_DATE 2003 1 1 *
AGENCY "WESTERN MAPPING CENTER (WMC)" *
PRODUCER "USDA FS GEOSPATIAL SERVICE AND TECHNOLOGY CENTER" *
PRODUCTION_SYSTEM "ORBIT OR_RECTIFY V.5.2" *
STANDARD_VERSION 1996 12 *
METADATA_DATE 2003 3 6 *
DATA_FILE_SIZE 48846966 *
BYTE_COUNT 6338 * * * * * * * * * * * * * * * * * * * * * * * * *
END_USGS_HEADER *
