BEGIN_USGS_DOQ_HEADER *
QUADRANGLE_NAME "WOLF CREEK" 3.45 or 7.5-min. name*
QUADRANT SE quadrant indicator if cell size = 3.75-minutes*
WEST_LONGITUDE -119 41 15.000 signed deg min sec SDDD MM SS.SSS*
EAST_LONGITUDE -119 37 30.000 signed deg min sec SDDD MM SS.SSS*
NORTH_LATITUDE 38 33 45.000 signed deg min sec SDDD MM SS.SSS*
SOUTH_LATITUDE 38 30 0.000 signed deg min sec SDDD MM SS.SSS*
PRODUCTION_DATE 1999 10 28 yyyy mm dd*
RASTER_ORDER LEFT_RIGHT/TOP_BOTTOM video display order*
BAND_ORGANIZATION "SINGLE FILE" single file or BSQ, or BIL or BIP*
BAND_CONTENT BLACK&WHITE black&white or red green blue*
BITS_PER_PIXEL 8 radiometric resolution*
SAMPLES_AND_LINES 6341 7705 number of columns and rows*
HORIZONTAL_DATUM NAD83 primary horizontal datum*
HORIZONTAL_COORDINATE_SYSTEM UTM *
COORDINATE_ZONE 11 coordinate system zone number*
HORIZONTAL_UNITS METERS coordinate system units*
HORIZONTAL_RESOLUTION 1.00 pixel horiz. ground sample distance*
SECONDARY_HORIZONTAL_DATUM NAD27 secondary horizontal datum*
XY_ORIGIN 265246.000 4271954.000 coord. of upper left pixel pri. datum*
SECONDARY_XY_ORIGIN 265328.191 4271754.704 coord upper left pixel sec datum*
NATION US nation code*
STATE CA state fip code*
NW_QUAD_CORNER_XY 265839.031 4271653.345 XY coords. of pri. NW quad corner*
NE_QUAD_CORNER_XY 271285.502 4271495.831 XY coords. of pri. NE quad corner*
SE_QUAD_CORNER_XY 271087.387 4264559.052 XY coords. of pri. SE quad corner*
SW_QUAD_CORNER_XY 265636.190 4264716.487 XY coords. of pri. SW quad corner*
SECONDARY_NW_QUAD_XY 265833.093 4271446.444 XY coords. - sec. NW quad cor.*
SECONDARY_NE_QUAD_XY 271279.702 4271288.926 XY coords. - sec. NE quad cor.*
SECONDARY_SE_QUAD_XY 271081.591 4264352.289 XY coords. - sec. SE quad cor.*
SECONDARY_SW_QUAD_XY 265630.255 4264509.728 XY coords. - sec. SW quad cor.*
RMSE_XY 2.20 doq horiz. accuracy*
IMAGE_SOURCE "BLACK AND WHITE FILM" b&w, cir, natural color, other*
SOURCE_IMAGE_ID "NAPP 6311 068" source image id*
SOURCE_IMAGE_DATE 1993 09 26 source image date as yyyy mm dd*
IMAGE_SOURCE "BLACK AND WHITE FILM" b&w, cir, natural color, other*
SOURCE_IMAGE_ID "NAPP 6311 112" source image id*
SOURCE_IMAGE_DATE 1993 09 26 source image date as yyyy mm dd*
IMAGE_SOURCE "BLACK AND WHITE FILM" b&w, cir, natural color, other*
SOURCE_IMAGE_ID "NAPP 6311 067" source image id*
SOURCE_IMAGE_DATE 1993 09 26 source image date as yyyy mm dd*
IMAGE_SOURCE "BLACK AND WHITE FILM" b&w, cir, natural color, other*
SOURCE_IMAGE_ID "NAPP 6311 069" source image id*
SOURCE_IMAGE_DATE 1993 09 26 source image date as yyyy mm dd*
SOURCE_DEM_DATE 1979 00 00 source dem date yyyy mm dd*
AGENCY "WESTERN MAPPING CENTER (WMC)" oversight agency*
PRODUCER "SCIENCE APPLICATIONS INTERNATIONAL" producer/contractor*
PRODUCTION_SYSTEM "GIS/MAGIC" production system*
STANDARD_VERSION 1996 12 version of DOQ standard*
METADATA_DATE 1999 11 24 date created or changed, yyyy mm dd*
DATA_FILE_SIZE 48863746 data set size in bytes*
BYTE_COUNT 6341 header byte count* * * * * * * * * * * * * * * * * * * * * * * * * * * *
END_USGS_HEADER *
