BEGIN_USGS_DOQ_HEADER *
QUADRANGLE_NAME "EBBETTS PASS" 3.45 or 7.5-min. name*
QUADRANT NW quadrant indicator if cell size = 3.75-minutes*
WEST_LONGITUDE -119 52 30.000 signed deg min sec SDDD MM SS.SSS*
EAST_LONGITUDE -119 48 45.000 signed deg min sec SDDD MM SS.SSS*
NORTH_LATITUDE 38 37 30.000 signed deg min sec SDDD MM SS.SSS*
SOUTH_LATITUDE 38 33 45.000 signed deg min sec SDDD MM SS.SSS*
PRODUCTION_DATE 2000 11 27 yyyy mm dd*
RASTER_ORDER LEFT_RIGHT/TOP_BOTTOM video display order*
BAND_ORGANIZATION "SINGLE FILE" single file or BSQ, or BIL or BIP*
BAND_CONTENT BLACK&WHITE black&white or red green blue*
BITS_PER_PIXEL 8 radiometric resolution*
SAMPLES_AND_LINES 6351 7716 number of columns and rows*
HORIZONTAL_DATUM NAD83 primary horizontal datum*
HORIZONTAL_COORDINATE_SYSTEM UTM *
COORDINATE_ZONE 11 coordinate system zone number*
HORIZONTAL_UNITS METERS coordinate system units*
HORIZONTAL_RESOLUTION 1.00 pixel horiz. ground sample distance*
SECONDARY_HORIZONTAL_DATUM NAD27 secondary horizontal datum*
XY_ORIGIN 249109.000 4279386.000 coord. of upper left pixel pri. datum*
SECONDARY_XY_ORIGIN 249191.210 4279186.442 coord upper left pixel sec datum*
NATION US nation code*
STATE CA state fip code*
NW_QUAD_CORNER_XY 249716.561 4279085.334 XY coords. of pri. NW quad corner*
NE_QUAD_CORNER_XY 255158.489 4278916.594 XY coords. of pri. NE quad corner*
SE_QUAD_CORNER_XY 254945.901 4271979.515 XY coords. of pri. SE quad corner*
SW_QUAD_CORNER_XY 249499.238 4272148.172 XY coords. of pri. SW quad corner*
SECONDARY_NW_QUAD_XY 249710.204 4278878.304 XY coords. - sec. NW quad cor.*
SECONDARY_NE_QUAD_XY 255152.270 4278709.559 XY coords. - sec. NE quad cor.*
SECONDARY_SE_QUAD_XY 254939.686 4271772.622 XY coords. - sec. SE quad cor.*
SECONDARY_SW_QUAD_XY 249492.885 4271941.282 XY coords. - sec. SW quad cor.*
RMSE_XY 1.70 doq horiz. accuracy*
IMAGE_SOURCE "BLACK AND WHITE FILM" b&w, cir, natural color, other*
SOURCE_IMAGE_ID "NAPP 10554 221" source image id*
SOURCE_IMAGE_DATE 1998 08 25 source image date as yyyy mm dd*
SOURCE_IMAGE_ID "NAPP 10554 116" source image id*
SOURCE_IMAGE_DATE 1998 08 25 source image date as yyyy mm dd*
SOURCE_IMAGE_ID "NAPP 10554 115" source image id*
SOURCE_IMAGE_DATE 1998 08 25 source image date as yyyy mm dd*
SOURCE_IMAGE_ID "NAPP 10554 220" source image id*
SOURCE_IMAGE_DATE 1998 08 25 source image date as yyyy mm dd*
SOURCE_IMAGE_ID "NAPP 10554 222" source image id*
SOURCE_IMAGE_DATE 1998 08 25 source image date as yyyy mm dd*
SOURCE_IMAGE_ID "NAPP 10554 187" source image id*
SOURCE_IMAGE_DATE 1998 08 25 source image date as yyyy mm dd*
SOURCE_IMAGE_ID "NAPP 10554 186" source image id*
SOURCE_IMAGE_DATE 1998 08 25 source image date as yyyy mm dd*
SOURCE_IMAGE_ID "NAPP 10554 185" source image id*
SOURCE_IMAGE_DATE 1998 08 25 source image date as yyyy mm dd*
SOURCE_DEM_DATE 2000 01 01 source dem date yyyy mm dd*
AGENCY "WESTERN MAPPING CENTER (WMC)" oversight agency*
PRODUCER "SCIENCE APPLICATIONS INTERNATIONAL" producer/contractor*
PRODUCTION_SYSTEM "GIS/MAGIC" production system*
STANDARD_VERSION 1996 12 version of DOQ standard*
METADATA_DATE 2000 12 04 date created or changed, yyyy mm dd*
DATA_FILE_SIZE 49010667 data set size in bytes*
BYTE_COUNT 6351 header byte count* * * * * * * * * * * * * * * * * * * * * * *
END_USGS_HEADER *
