BEGIN_USGS_DOQ_HEADER *
QUADRANGLE_NAME "LONG DRY CANYON" *
QUADRANT NE *
WEST_LONGITUDE -119 26 15.000 *
EAST_LONGITUDE -119 22 30.000 *
NORTH_LATITUDE 38 45 0.000 *
SOUTH_LATITUDE 38 41 15.000 *
PRODUCTION_DATE 2003 1 28 *
RASTER_ORDER LEFT_RIGHT/TOP_BOTTOM *
BAND_ORGANIZATION "SINGLE FILE" *
BAND_CONTENT BLACK&WHITE *
BITS_PER_PIXEL 8 *
SAMPLES_AND_LINES 6304 7687 *
HORIZONTAL_DATUM NAD83 *
HORIZONTAL_COORDINATE_SYSTEM UTM *
COORDINATE_ZONE 11 *
HORIZONTAL_UNITS METERS *
HORIZONTAL_RESOLUTION 1.0 *
SECONDARY_HORIZONTAL_DATUM NAD27 *
XY_ORIGIN 287606.159 4292155.591 *
SECONDARY_XY_ORIGIN 287687.724 4291956.064 *
NATION US *
STATE NV *
NW_QUAD_CORNER_XY 288177.895 4291855.591 *
NE_QUAD_CORNER_XY 293609.919 4291712.715 *
SE_QUAD_CORNER_XY 293429.962 4284776.049 *
SW_QUAD_CORNER_XY 287993.195 4284918.855 *
SECONDARY_NW_QUAD_XY 288172.502 4291648.254 *
SECONDARY_NE_QUAD_XY 293604.665 4291505.374 *
SECONDARY_SE_QUAD_XY 293424.712 4284568.848 *
SECONDARY_SW_QUAD_XY 287987.805 4284711.658 *
RMSE_XY 1.97 *
IMAGE_SOURCE "BLACK AND WHITE FILM" *
SOURCE_IMAGE_ID "NAPP 11548 10" *
SOURCE_IMAGE_DATE 1999 9 7 *
SOURCE_IMAGE_ID "NAPP 11548 9" *
SOURCE_IMAGE_DATE 1999 9 7 *
SOURCE_IMAGE_ID "NAPP 11548 11" *
SOURCE_IMAGE_DATE 1999 9 7 *
SOURCE_IMAGE_ID "NAPP 11547 102" *
SOURCE_IMAGE_DATE 1999 9 6 *
SOURCE_IMAGE_ID "NAPP 11547 103" *
SOURCE_IMAGE_DATE 1999 9 6 *
SOURCE_IMAGE_ID "NAPP 11555 80" *
SOURCE_IMAGE_DATE 1999 9 12 *
SOURCE_IMAGE_ID "NAPP 11530 125" *
SOURCE_IMAGE_DATE 1999 8 31 *
SOURCE_IMAGE_ID "NAPP 11530 126" *
SOURCE_IMAGE_DATE 1999 8 31 *
SOURCE_IMAGE_ID "NAPP 11530 127" *
SOURCE_IMAGE_DATE 1999 8 31 *
SOURCE_DEM_DATE 2003 1 1 *
AGENCY "WESTERN MAPPING CENTER (WMC)" *
PRODUCER "USDA FS GEOSPATIAL SERVICE AND TECHNOLOGY CENTER" *
PRODUCTION_SYSTEM "ORBIT OR_RECTIFY V.5.2" *
STANDARD_VERSION 1996 12 *
METADATA_DATE 2003 3 6 *
DATA_FILE_SIZE 48465152 *
BYTE_COUNT 6304 * * * * * * * * * * * * * * * * * * * *
END_USGS_HEADER *
