BEGIN_USGS_DOQ_HEADER *
QUADRANGLE_NAME "TOPAZ LAKE" 3.45 or 7.5-min. name*
QUADRANT NE quadrant indicator if cell size = 3.75-minutes*
WEST_LONGITUDE -119 33 45.000 signed deg min sec SDDD MM SS.SSS*
EAST_LONGITUDE -119 30 0.000 signed deg min sec SDDD MM SS.SSS*
NORTH_LATITUDE 38 45 0.000 signed deg min sec SDDD MM SS.SSS*
SOUTH_LATITUDE 38 41 15.000 signed deg min sec SDDD MM SS.SSS*
PRODUCTION_DATE 1996 12 11 yyyy mm dd*
RASTER_ORDER LEFT_RIGHT/TOP_BOTTOM video display order*
BAND_ORGANIZATION "SINGLE FILE" single file or BSQ, or BIL or BIP*
BAND_CONTENT BLACK&WHITE black&white or red green blue*
BITS_PER_PIXEL 8 radiometric resolution*
SAMPLES_AND_LINES 6314 7695 number of columns and rows*
HORIZONTAL_DATUM NAD83 primary horizontal datum*
HORIZONTAL_COORDINATE_SYSTEM UTM *
COORDINATE_ZONE 11 coordinate system zone number*
HORIZONTAL_UNITS METERS coordinate system units*
HORIZONTAL_RESOLUTION 1.00 pixel horiz. ground sample distance*
SECONDARY_HORIZONTAL_DATUM NAD27 secondary horizontal datum*
XY_ORIGIN 276732.492 4292451.994 coord. of upper left pixel pri. datum*
SECONDARY_XY_ORIGIN 276814.225 4292252.577 coord upper left pixel sec datum*
NATION US nation code*
STATE NV state fip code*
STATE CA state fip code*
NW_QUAD_CORNER_XY 277313.679 4292152.494 XY coords. of pri. NW quad corner*
NE_QUAD_CORNER_XY 282745.815 4292002.183 XY coords. of pri. NE quad corner*
SE_QUAD_CORNER_XY 282556.371 4285065.376 XY coords. of pri. SE quad corner*
SW_QUAD_CORNER_XY 277119.490 4285215.613 XY coords. of pri. SW quad corner*
SECONDARY_NW_QUAD_XY 277308.005 4291945.162 XY coords. - sec. NW quad cor.*
SECONDARY_NE_QUAD_XY 282740.280 4291794.848 XY coords. - sec. NE quad cor.*
SECONDARY_SE_QUAD_XY 282550.839 4284858.180 XY coords. - sec. SE quad cor.*
SECONDARY_SW_QUAD_XY 277113.820 4285008.421 XY coords. - sec. SW quad cor.*
RMSE_XY 1.10 doq horiz. accuracy*
IMAGE_SOURCE "BLACK AND WHITE FILM" b&w, cir, natural color, other*
SOURCE_IMAGE_ID "NAPP 6307 52" source image id*
SOURCE_IMAGE_DATE 1993 7 19 source image date as yyyy mm dd*
SOURCE_DEM_DATE 1996 12 11 source dem date yyyy mm dd*
AGENCY "WESTERN MAPPING CENTER (WMC)" oversight agency*
PRODUCER "Aerial Data Reduction Associates" producer/contractor*
PRODUCTION_SYSTEM "INTERGRAPH ISPM,ISIR" production system*
STANDARD_VERSION 1996 12 version of DOQ standard*
METADATA_DATE 1998 11 4 date created or changed, yyyy mm dd*
DATA_FILE_SIZE 48592544 data set size in bytes*
BYTE_COUNT 6314 header byte count* * * * * * * * * * * * * * * * * * * * * * * * * * * * * * * * * * *
END_USGS_HEADER *
