BEGIN_USGS_DOQ_HEADER *
QUADRANGLE_NAME "HEENAN LAKE" *
QUADRANT SE *
WEST_LONGITUDE -119 41 15.000 *
EAST_LONGITUDE -119 37 30.000 *
NORTH_LATITUDE 38 41 15.000 *
SOUTH_LATITUDE 38 37 30.000 *
PRODUCTION_DATE 2003 1 28 *
RASTER_ORDER LEFT_RIGHT/TOP_BOTTOM *
BAND_ORGANIZATION "SINGLE FILE" *
BAND_CONTENT BLACK&WHITE *
BITS_PER_PIXEL 8 *
SAMPLES_AND_LINES 6328 7702 *
HORIZONTAL_DATUM NAD83 *
HORIZONTAL_COORDINATE_SYSTEM UTM *
COORDINATE_ZONE 11 *
HORIZONTAL_UNITS METERS *
HORIZONTAL_RESOLUTION 1.0 *
SECONDARY_HORIZONTAL_DATUM NAD27 *
XY_ORIGIN 265654.133 4285827.237 *
SECONDARY_XY_ORIGIN 265736.106 4285627.891 *
NATION US *
STATE CA *
NW_QUAD_CORNER_XY 266245.553 4285527.237 *
NE_QUAD_CORNER_XY 271682.551 4285369.567 *
SE_QUAD_CORNER_XY 271483.890 4278432.670 *
SW_QUAD_CORNER_XY 266042.152 4278590.262 *
SECONDARY_NW_QUAD_XY 266239.609 4285320.054 *
SECONDARY_NE_QUAD_XY 271676.746 4285162.380 *
SECONDARY_SE_QUAD_XY 271478.089 4278225.624 *
SECONDARY_SW_QUAD_XY 266036.213 4278383.220 *
RMSE_XY 2.07 *
IMAGE_SOURCE "BLACK AND WHITE FILM" *
SOURCE_IMAGE_ID "NAPP 10564 240" *
SOURCE_IMAGE_DATE 1998 9 18 *
SOURCE_IMAGE_ID "NAPP 10564 239" *
SOURCE_IMAGE_DATE 1998 9 18 *
SOURCE_IMAGE_ID "NAPP 10564 241" *
SOURCE_IMAGE_DATE 1998 9 18 *
SOURCE_IMAGE_ID "NAPP 10564 256" *
SOURCE_IMAGE_DATE 1998 9 18 *
SOURCE_IMAGE_ID "NAPP 10564 255" *
SOURCE_IMAGE_DATE 1998 9 18 *
SOURCE_IMAGE_ID "NAPP 10564 254" *
SOURCE_IMAGE_DATE 1998 9 18 *
SOURCE_IMAGE_ID "NAPP 10554 272" *
SOURCE_IMAGE_DATE 1998 8 25 *
SOURCE_IMAGE_ID "NAPP 10554 273" *
SOURCE_IMAGE_DATE 1998 8 25 *
SOURCE_IMAGE_ID "NAPP 10554 274" *
SOURCE_IMAGE_DATE 1998 8 25 *
SOURCE_DEM_DATE 2003 1 1 *
AGENCY "WESTERN MAPPING CENTER (WMC)" *
PRODUCER "USDA FS GEOSPATIAL SERVICE AND TECHNOLOGY CENTER" *
PRODUCTION_SYSTEM "ORBIT OR_RECTIFY V.5.2" *
STANDARD_VERSION 1996 12 *
METADATA_DATE 2003 3 6 *
DATA_FILE_SIZE 48744584 *
BYTE_COUNT 6328 * * * * * * * * * * * * * * * * * * * * *
END_USGS_HEADER *
