BEGIN_USGS_DOQ_HEADER *
QUADRANGLE_NAME "HEENAN LAKE" 3.45 or 7.5-min. name*
QUADRANT SW quadrant indicator if cell size = 3.75-minutes*
WEST_LONGITUDE -119 45 0.000 signed deg min sec SDDD MM SS.SSS*
EAST_LONGITUDE -119 41 15.000 signed deg min sec SDDD MM SS.SSS*
NORTH_LATITUDE 38 41 15.000 signed deg min sec SDDD MM SS.SSS*
SOUTH_LATITUDE 38 37 30.000 signed deg min sec SDDD MM SS.SSS*
PRODUCTION_DATE 1999 10 28 yyyy mm dd*
RASTER_ORDER LEFT_RIGHT/TOP_BOTTOM video display order*
BAND_ORGANIZATION "SINGLE FILE" single file or BSQ, or BIL or BIP*
BAND_CONTENT BLACK&WHITE black&white or red green blue*
BITS_PER_PIXEL 8 radiometric resolution*
SAMPLES_AND_LINES 6336 7709 number of columns and rows*
HORIZONTAL_DATUM NAD83 primary horizontal datum*
HORIZONTAL_COORDINATE_SYSTEM UTM *
COORDINATE_ZONE 11 coordinate system zone number*
HORIZONTAL_UNITS METERS coordinate system units*
HORIZONTAL_RESOLUTION 1.00 pixel horiz. ground sample distance*
SECONDARY_HORIZONTAL_DATUM NAD27 secondary horizontal datum*
XY_ORIGIN 260211.000 4285989.000 coord. of upper left pixel pri. datum*
SECONDARY_XY_ORIGIN 260293.042 4285789.665 coord upper left pixel sec datum*
NATION US nation code*
STATE CA state fip code*
NW_QUAD_CORNER_XY 260808.493 4285688.624 XY coords. of pri. NW quad corner*
NE_QUAD_CORNER_XY 266245.553 4285527.236 XY coords. of pri. NE quad corner*
SE_QUAD_CORNER_XY 266042.152 4278590.262 XY coords. of pri. SE quad corner*
SW_QUAD_CORNER_XY 260600.353 4278751.570 XY coords. of pri. SW quad corner*
SECONDARY_NW_QUAD_XY 260802.407 4285481.444 XY coords. - sec. NW quad cor.*
SECONDARY_NE_QUAD_XY 266239.606 4285320.053 XY coords. - sec. NE quad cor.*
SECONDARY_SE_QUAD_XY 266036.210 4278383.219 XY coords. - sec. SE quad cor.*
SECONDARY_SW_QUAD_XY 260594.271 4278544.531 XY coords. - sec. SW quad cor.*
RMSE_XY 3.60 doq horiz. accuracy*
IMAGE_SOURCE "BLACK AND WHITE FILM" b&w, cir, natural color, other*
SOURCE_IMAGE_ID "NAPP 6307 021" source image id*
SOURCE_IMAGE_DATE 1993 07 19 source image date as yyyy mm dd*
IMAGE_SOURCE "BLACK AND WHITE FILM" b&w, cir, natural color, other*
SOURCE_IMAGE_ID "NAPP 6307 001" source image id*
SOURCE_IMAGE_DATE 1993 07 19 source image date as yyyy mm dd*
IMAGE_SOURCE "BLACK AND WHITE FILM" b&w, cir, natural color, other*
SOURCE_IMAGE_ID "NAPP 6311 111" source image id*
SOURCE_IMAGE_DATE 1993 09 26 source image date as yyyy mm dd*
IMAGE_SOURCE "BLACK AND WHITE FILM" b&w, cir, natural color, other*
SOURCE_IMAGE_ID "NAPP 6311 110" source image id*
SOURCE_IMAGE_DATE 1993 09 26 source image date as yyyy mm dd*
IMAGE_SOURCE "BLACK AND WHITE FILM" b&w, cir, natural color, other*
SOURCE_IMAGE_ID "NAPP 6307 020" source image id*
SOURCE_IMAGE_DATE 1993 07 19 source image date as yyyy mm dd*
SOURCE_DEM_DATE 1979 00 00 source dem date yyyy mm dd*
AGENCY "WESTERN MAPPING CENTER (WMC)" oversight agency*
PRODUCER "SCIENCE APPLICATIONS INTERNATIONAL" producer/contractor*
PRODUCTION_SYSTEM "GIS/MAGIC" production system*
STANDARD_VERSION 1996 12 version of DOQ standard*
METADATA_DATE 1999 11 24 date created or changed, yyyy mm dd*
DATA_FILE_SIZE 48850560 data set size in bytes*
BYTE_COUNT 6336 header byte count* * * * * * * * * * * * * * * * * * * * * * * * *
END_USGS_HEADER *
