BEGIN_USGS_DOQ_HEADER *
QUADRANGLE_NAME "MARKLEEVILLE" *
QUADRANT NW *
WEST_LONGITUDE -119 52 30.000 *
EAST_LONGITUDE -119 48 45.000 *
NORTH_LATITUDE 38 45 0.000 *
SOUTH_LATITUDE 38 41 15.000 *
PRODUCTION_DATE 2003 1 28 *
RASTER_ORDER LEFT_RIGHT/TOP_BOTTOM *
BAND_ORGANIZATION "SINGLE FILE" *
BAND_CONTENT BLACK&WHITE *
BITS_PER_PIXEL 8 *
SAMPLES_AND_LINES 6339 7714 *
HORIZONTAL_DATUM NAD83 *
HORIZONTAL_COORDINATE_SYSTEM UTM *
COORDINATE_ZONE 11 *
HORIZONTAL_UNITS METERS *
HORIZONTAL_RESOLUTION 1.0 *
SECONDARY_HORIZONTAL_DATUM NAD27 *
XY_ORIGIN 249545.737 4293259.827 *
SECONDARY_XY_ORIGIN 249627.696 4293060.208 *
NATION US *
STATE CA *
NW_QUAD_CORNER_XY 250152.103 4292959.827 *
NE_QUAD_CORNER_XY 255584.542 4292790.921 *
SE_QUAD_CORNER_XY 255371.370 4285853.729 *
SW_QUAD_CORNER_XY 249934.183 4286022.553 *
SECONDARY_NW_QUAD_XY 250145.739 4292752.515 *
SECONDARY_NE_QUAD_XY 255578.317 4292583.605 *
SECONDARY_SE_QUAD_XY 255365.148 4285646.553 *
SECONDARY_SW_QUAD_XY 249927.823 4285815.381 *
RMSE_XY 2.07 *
IMAGE_SOURCE "BLACK AND WHITE FILM" *
SOURCE_IMAGE_ID "NAPP 10568 33" *
SOURCE_IMAGE_DATE 1999 8 1 *
SOURCE_IMAGE_ID "NAPP 10568 32" *
SOURCE_IMAGE_DATE 1999 8 1 *
SOURCE_IMAGE_ID "NAPP 10568 34" *
SOURCE_IMAGE_DATE 1999 8 1 *
SOURCE_IMAGE_ID "NAPP 10554 183" *
SOURCE_IMAGE_DATE 1998 8 25 *
SOURCE_IMAGE_ID "NAPP 10554 182" *
SOURCE_IMAGE_DATE 1998 8 25 *
SOURCE_IMAGE_ID "NAPP 10565 144" *
SOURCE_IMAGE_DATE 1998 9 19 *
SOURCE_DEM_DATE 2003 1 1 *
AGENCY "WESTERN MAPPING CENTER (WMC)" *
PRODUCER "USDA FS GEOSPATIAL SERVICE AND TECHNOLOGY CENTER" *
PRODUCTION_SYSTEM "ORBIT OR_RECTIFY V.5.2" *
STANDARD_VERSION 1996 12 *
METADATA_DATE 2003 3 6 *
DATA_FILE_SIZE 48905385 *
BYTE_COUNT 6339 * * * * * * * * * * * * * * * * * * * * * * * * * * *
END_USGS_HEADER *
