BEGIN_USGS_DOQ_HEADER *
QUADRANGLE_NAME "DOUBLE SPRING" *
QUADRANT SW *
WEST_LONGITUDE -119 37 30.000 *
EAST_LONGITUDE -119 33 45.000 *
NORTH_LATITUDE 38 48 45.000 *
SOUTH_LATITUDE 38 45 0.000 *
PRODUCTION_DATE 2003 1 28 *
RASTER_ORDER LEFT_RIGHT/TOP_BOTTOM *
BAND_ORGANIZATION "SINGLE FILE" *
BAND_CONTENT BLACK&WHITE *
BITS_PER_PIXEL 8 *
SAMPLES_AND_LINES 6314 7699 *
HORIZONTAL_DATUM NAD83 *
HORIZONTAL_COORDINATE_SYSTEM UTM *
COORDINATE_ZONE 11 *
HORIZONTAL_UNITS METERS *
HORIZONTAL_RESOLUTION 1.0 *
SECONDARY_HORIZONTAL_DATUM NAD27 *
XY_ORIGIN 271493.877 4299543.537 *
SECONDARY_XY_ORIGIN 271575.599 4299343.883 *
NATION US *
STATE NV *
NW_QUAD_CORNER_XY 272080.691 4299243.537 *
NE_QUAD_CORNER_XY 277508.133 4299089.434 *
SE_QUAD_CORNER_XY 277313.679 4292152.494 *
SW_QUAD_CORNER_XY 271881.485 4292306.522 *
SECONDARY_NW_QUAD_XY 272074.878 4299036.072 *
SECONDARY_NE_QUAD_XY 277502.459 4298881.965 *
SECONDARY_SE_QUAD_XY 277308.008 4291945.163 *
SECONDARY_SW_QUAD_XY 271875.676 4292099.196 *
RMSE_XY 2.07 *
IMAGE_SOURCE "BLACK AND WHITE FILM" *
SOURCE_IMAGE_ID "NAPP 11559 101" *
SOURCE_IMAGE_DATE 1999 9 27 *
SOURCE_IMAGE_ID "NAPP 11559 100" *
SOURCE_IMAGE_DATE 1999 9 27 *
SOURCE_IMAGE_ID "NAPP 11559 102" *
SOURCE_IMAGE_DATE 1999 9 27 *
SOURCE_IMAGE_ID "NAPP 10564 243" *
SOURCE_IMAGE_DATE 1998 9 18 *
SOURCE_IMAGE_ID "NAPP 10564 244" *
SOURCE_IMAGE_DATE 1998 9 18 *
SOURCE_IMAGE_ID "NAPP 10564 245" *
SOURCE_IMAGE_DATE 1998 9 18 *
SOURCE_IMAGE_ID "NAPP 12408 53" *
SOURCE_IMAGE_DATE 2000 9 9 *
SOURCE_IMAGE_ID "NAPP 12408 52" *
SOURCE_IMAGE_DATE 2000 9 9 *
SOURCE_IMAGE_ID "NAPP 12408 51" *
SOURCE_IMAGE_DATE 2000 9 9 *
SOURCE_DEM_DATE 2003 1 1 *
AGENCY "WESTERN MAPPING CENTER (WMC)" *
PRODUCER "USDA FS GEOSPATIAL SERVICE AND TECHNOLOGY CENTER" *
PRODUCTION_SYSTEM "ORBIT OR_RECTIFY V.5.2" *
STANDARD_VERSION 1996 12 *
METADATA_DATE 2003 3 6 *
DATA_FILE_SIZE 48617800 *
BYTE_COUNT 6314 * * * * * * * * * * * * * * * * * * * *
END_USGS_HEADER *
