BEGIN_USGS_DOQ_HEADER *
QUADRANGLE_NAME "CARTERS STATION" *
QUADRANT NE *
WEST_LONGITUDE -119 41 15.000 *
EAST_LONGITUDE -119 37 30.000 *
NORTH_LATITUDE 38 52 30.000 *
SOUTH_LATITUDE 38 48 45.000 *
PRODUCTION_DATE 2003 1 28 *
RASTER_ORDER LEFT_RIGHT/TOP_BOTTOM *
BAND_ORGANIZATION "SINGLE FILE" *
BAND_CONTENT BLACK&WHITE *
BITS_PER_PIXEL 8 *
SAMPLES_AND_LINES 6315 7703 *
HORIZONTAL_DATUM NAD83 *
HORIZONTAL_COORDINATE_SYSTEM UTM *
COORDINATE_ZONE 11 *
HORIZONTAL_UNITS METERS *
HORIZONTAL_RESOLUTION 1.0 *
SECONDARY_HORIZONTAL_DATUM NAD27 *
XY_ORIGIN 266265.434 4306638.509 *
SECONDARY_XY_ORIGIN 266347.188 4306438.643 *
NATION US *
STATE NV *
NW_QUAD_CORNER_XY 266857.426 4306338.509 *
NE_QUAD_CORNER_XY 272280.168 4306180.610 *
SE_QUAD_CORNER_XY 272080.691 4299243.537 *
SW_QUAD_CORNER_XY 266653.190 4299401.360 *
SECONDARY_NW_QUAD_XY 266851.471 4306130.909 *
SECONDARY_NE_QUAD_XY 272274.352 4305973.007 *
SECONDARY_SE_QUAD_XY 272074.878 4299036.072 *
SECONDARY_SW_QUAD_XY 266647.238 4299193.899 *
RMSE_XY 2.07 *
IMAGE_SOURCE "BLACK AND WHITE FILM" *
SOURCE_IMAGE_ID "NAPP 10564 246" *
SOURCE_IMAGE_DATE 1998 9 18 *
SOURCE_IMAGE_ID "NAPP 10564 245" *
SOURCE_IMAGE_DATE 1998 9 18 *
SOURCE_IMAGE_ID "NAPP 11555 81" *
SOURCE_IMAGE_DATE 1999 9 12 *
SOURCE_IMAGE_ID "NAPP 10565 155" *
SOURCE_IMAGE_DATE 1998 9 19 *
SOURCE_IMAGE_ID "NAPP 10565 154" *
SOURCE_IMAGE_DATE 1998 9 19 *
SOURCE_IMAGE_ID "NAPP 11547 49" *
SOURCE_IMAGE_DATE 1999 9 6 *
SOURCE_IMAGE_ID "NAPP 11559 102" *
SOURCE_IMAGE_DATE 1999 9 27 *
SOURCE_IMAGE_ID "NAPP 11559 103" *
SOURCE_IMAGE_DATE 1999 9 27 *
SOURCE_IMAGE_ID "NAPP 11559 104" *
SOURCE_IMAGE_DATE 1999 9 27 *
SOURCE_DEM_DATE 2003 1 1 *
AGENCY "WESTERN MAPPING CENTER (WMC)" *
PRODUCER "USDA FS GEOSPATIAL SERVICE AND TECHNOLOGY CENTER" *
PRODUCTION_SYSTEM "ORBIT OR_RECTIFY V.5.2" *
STANDARD_VERSION 1996 12 *
METADATA_DATE 2003 3 6 *
DATA_FILE_SIZE 48650760 *
BYTE_COUNT 6315 * * * * * * * * * * * * * * * * * * * *
END_USGS_HEADER *
