BEGIN_USGS_DOQ_HEADER *
QUADRANGLE_NAME "CARTERS STATION" 3.45 or 7.5-min. name*
QUADRANT SE quadrant indicator if cell size = 3.75-minutes*
WEST_LONGITUDE -119 41 15.000 signed deg min sec SDDD MM SS.SSS*
EAST_LONGITUDE -119 37 30.000 signed deg min sec SDDD MM SS.SSS*
NORTH_LATITUDE 38 48 45.000 signed deg min sec SDDD MM SS.SSS*
SOUTH_LATITUDE 38 45 0.000 signed deg min sec SDDD MM SS.SSS*
PRODUCTION_DATE 1996 12 11 yyyy mm dd*
RASTER_ORDER LEFT_RIGHT/TOP_BOTTOM video display order*
BAND_ORGANIZATION "SINGLE FILE" single file or BSQ, or BIL or BIP*
BAND_CONTENT BLACK&WHITE black&white or red green blue*
BITS_PER_PIXEL 8 radiometric resolution*
SAMPLES_AND_LINES 6319 7703 number of columns and rows*
HORIZONTAL_DATUM NAD83 primary horizontal datum*
HORIZONTAL_COORDINATE_SYSTEM UTM *
COORDINATE_ZONE 11 coordinate system zone number*
HORIZONTAL_UNITS METERS coordinate system units*
HORIZONTAL_RESOLUTION 1.00 pixel horiz. ground sample distance*
SECONDARY_HORIZONTAL_DATUM NAD27 secondary horizontal datum*
XY_ORIGIN 266061.921 4299700.860 coord. of upper left pixel pri. datum*
SECONDARY_XY_ORIGIN 266143.728 4299501.235 coord upper left pixel sec datum*
NATION US nation code*
STATE NV state fip code*
STATE CA state fip code*
NW_QUAD_CORNER_XY 266653.190 4299401.360 XY coords. of pri. NW quad corner*
NE_QUAD_CORNER_XY 272080.691 4299243.537 XY coords. of pri. NE quad corner*
SE_QUAD_CORNER_XY 271881.485 4292306.522 XY coords. of pri. SE quad corner*
SW_QUAD_CORNER_XY 266449.232 4292464.269 XY coords. of pri. SW quad corner*
SECONDARY_NW_QUAD_XY 266647.235 4299193.897 XY coords. - sec. NW quad cor.*
SECONDARY_NE_QUAD_XY 272074.874 4299036.070 XY coords. - sec. NE quad cor.*
SECONDARY_SE_QUAD_XY 271875.673 4292099.195 XY coords. - sec. SE quad cor.*
SECONDARY_SW_QUAD_XY 266443.281 4292256.946 XY coords. - sec. SW quad cor.*
RMSE_XY 1.10 doq horiz. accuracy*
IMAGE_SOURCE "BLACK AND WHITE FILM" b&w, cir, natural color, other*
SOURCE_IMAGE_ID "NAPP 6307 28" source image id*
SOURCE_IMAGE_DATE 1993 7 19 source image date as yyyy mm dd*
SOURCE_DEM_DATE 1996 12 11 source dem date yyyy mm dd*
AGENCY "WESTERN MAPPING CENTER (WMC)" oversight agency*
PRODUCER "Aerial Data Reduction Associates" producer/contractor*
PRODUCTION_SYSTEM "INTERGRAPH ISPM,ISIR" production system*
STANDARD_VERSION 1996 12 version of DOQ standard*
METADATA_DATE 1998 11 4 date created or changed, yyyy mm dd*
DATA_FILE_SIZE 48681576 data set size in bytes*
BYTE_COUNT 6319 header byte count* * * * * * * * * * * * * * * * * * * * * * * * * * * * * * * * * * *
END_USGS_HEADER *
