BEGIN_USGS_DOQ_HEADER *
QUADRANGLE_NAME "ARTESIA LAKE" 3.45 or 7.5-min. name*
QUADRANT NW quadrant indicator if cell size = 3.75-minutes*
WEST_LONGITUDE -119 22 30.000 signed deg min sec SDDD MM SS.SSS*
EAST_LONGITUDE -119 18 45.000 signed deg min sec SDDD MM SS.SSS*
NORTH_LATITUDE 39 0 0.000 signed deg min sec SDDD MM SS.SSS*
SOUTH_LATITUDE 38 56 15.000 signed deg min sec SDDD MM SS.SSS*
PRODUCTION_DATE 2002 3 25 yyyy mm dd*
RASTER_ORDER LEFT_RIGHT/TOP_BOTTOM video display order*
BAND_ORGANIZATION "SINGLE FILE" single file or BSQ, or BIL or BIP*
BAND_CONTENT BLACK&WHITE black&white or red green blue*
BITS_PER_PIXEL 8 radiometric resolution*
SAMPLES_AND_LINES 6283 7687 number of columns and rows*
HORIZONTAL_DATUM NAD83 primary horizontal datum*
HORIZONTAL_COORDINATE_SYSTEM UTM *
COORDINATE_ZONE 11 coordinate system zone number*
HORIZONTAL_UNITS METERS coordinate system units*
HORIZONTAL_RESOLUTION 1.00 pixel horiz. ground sample distance*
SECONDARY_HORIZONTAL_DATUM NAD27 secondary horizontal datum*
XY_ORIGIN 293764.000 4319761.000 coord. of upper left pixel pri. datum*
SECONDARY_XY_ORIGIN 293845.000 4319561.000 coord upper left pixel sec datum*
NATION US nation code*
STATE NV state fip code*
NW_QUAD_CORNER_XY 294332.208 4319459.996 XY coords. of pri. NW quad corner*
NE_QUAD_CORNER_XY 299745.144 4319320.572 XY coords. of pri. NE quad corner*
SE_QUAD_CORNER_XY 299568.971 4312383.724 XY coords. of pri. SE quad corner*
SW_QUAD_CORNER_XY 294151.267 4312523.083 XY coords. of pri. SW quad corner*
SECONDARY_NW_QUAD_XY 294326.935 4319252.102 XY coords. - sec. NW quad cor.*
SECONDARY_NE_QUAD_XY 299740.010 4319112.674 XY coords. - sec. NE quad cor.*
SECONDARY_SE_QUAD_XY 299563.841 4312175.963 XY coords. - sec. SE quad cor.*
SECONDARY_SW_QUAD_XY 294145.998 4312315.325 XY coords. - sec. SW quad cor.*
RMSE_XY 3.80 doq horiz. accuracy*
IMAGE_SOURCE "BLACK AND WHITE FILM" b&w, cir, natural color, other*
SOURCE_IMAGE_ID "NAPP 11530 134" source image id*
SOURCE_IMAGE_DATE 1999 8 31 source image date as yyyy mm dd*
SOURCE_DEM_DATE 1982 00 00 source dem date yyyy mm dd*
AGENCY "WESTERN MAPPING CENTER (WMC)" oversight agency*
PRODUCER "WESTERN MAPPING CENTER (WMC)" *
PRODUCTION_SYSTEM "DV2.6.4 1/00 OV2.6 6/00" production system*
STANDARD_VERSION 1996 12 version of DOQ standard*
METADATA_DATE 2002 3 25 date created or changed, yyyy mm dd*
DATA_FILE_SIZE 48303704 data set size in bytes*
BYTE_COUNT 6283 header byte count* * * * * * * * * * * * * * * * * * * * * * * * * * * * * * * * * * * *
END_USGS_HEADER *
