BEGIN_USGS_DOQ_HEADER *
QUADRANGLE_NAME "PINE NUT VALLEY" 3.45 or 7.5-min. name*
QUADRANT SW quadrant indicator if cell size = 3.75-minutes*
WEST_LONGITUDE -119 30 0.000 signed deg min sec SDDD MM SS.SSS*
EAST_LONGITUDE -119 26 15.000 signed deg min sec SDDD MM SS.SSS*
NORTH_LATITUDE 38 56 15.000 signed deg min sec SDDD MM SS.SSS*
SOUTH_LATITUDE 38 52 30.000 signed deg min sec SDDD MM SS.SSS*
PRODUCTION_DATE 2002 3 26 yyyy mm dd*
RASTER_ORDER LEFT_RIGHT/TOP_BOTTOM video display order*
BAND_ORGANIZATION "SINGLE FILE" single file or BSQ, or BIL or BIP*
BAND_CONTENT BLACK&WHITE black&white or red green blue*
BITS_PER_PIXEL 8 radiometric resolution*
SAMPLES_AND_LINES 6286 7694 number of columns and rows*
HORIZONTAL_DATUM NAD83 primary horizontal datum*
HORIZONTAL_COORDINATE_SYSTEM UTM *
COORDINATE_ZONE 11 coordinate system zone number*
HORIZONTAL_UNITS METERS coordinate system units*
HORIZONTAL_RESOLUTION 1.00 pixel horiz. ground sample distance*
SECONDARY_HORIZONTAL_DATUM NAD27 secondary horizontal datum*
XY_ORIGIN 282750.000 4313114.000 coord. of upper left pixel pri. datum*
SECONDARY_XY_ORIGIN 282831.000 4312914.000 coord upper left pixel sec datum*
NATION US nation code*
STATE NV state fip code*
NW_QUAD_CORNER_XY 283315.702 4312812.967 XY coords. of pri. NW quad corner*
NE_QUAD_CORNER_XY 288733.511 4312666.164 XY coords. of pri. NE quad corner*
SE_QUAD_CORNER_XY 288548.053 4305729.245 XY coords. of pri. SE quad corner*
SW_QUAD_CORNER_XY 283125.481 4305875.979 XY coords. of pri. SW quad corner*
SECONDARY_NW_QUAD_XY 283310.155 4312605.217 XY coords. - sec. NW quad cor.*
SECONDARY_NE_QUAD_XY 288728.103 4312458.410 XY coords. - sec. NE quad cor.*
SECONDARY_SE_QUAD_XY 288542.649 4305521.629 XY coords. - sec. SE quad cor.*
SECONDARY_SW_QUAD_XY 283119.938 4305668.366 XY coords. - sec. SW quad cor.*
RMSE_XY 2.70 doq horiz. accuracy*
IMAGE_SOURCE "BLACK AND WHITE FILM" b&w, cir, natural color, other*
SOURCE_IMAGE_ID "NAPP 11555 75" source image id*
SOURCE_IMAGE_DATE 1999 9 12 source image date as yyyy mm dd*
SOURCE_DEM_DATE 2002 3 26 source dem date yyyy mm dd*
AGENCY "WESTERN MAPPING CENTER (WMC)" oversight agency*
PRODUCER "WESTERN MAPPING CENTER (WMC)" *
PRODUCTION_SYSTEM "DV2.6.4 1/00 OV2.6 6/00" production system*
STANDARD_VERSION 1996 12 version of DOQ standard*
METADATA_DATE 2002 3 26 date created or changed, yyyy mm dd*
DATA_FILE_SIZE 48370770 data set size in bytes*
BYTE_COUNT 6286 header byte count* * * * * * * * * * * * * * * * * * * * * * * * * * * * * * * * * * * *
END_USGS_HEADER *
