BEGIN_USGS_DOQ_HEADER *
QUADRANGLE_NAME "GARDNERVILLE" *
QUADRANT NE *
WEST_LONGITUDE -119 41 15.000 *
EAST_LONGITUDE -119 37 30.000 *
NORTH_LATITUDE 39 0 0.000 *
SOUTH_LATITUDE 38 56 15.000 *
PRODUCTION_DATE 2003 1 28 *
RASTER_ORDER LEFT_RIGHT/TOP_BOTTOM *
BAND_ORGANIZATION "SINGLE FILE" *
BAND_CONTENT BLACK&WHITE *
BITS_PER_PIXEL 8 *
SAMPLES_AND_LINES 6306 7703 *
HORIZONTAL_DATUM NAD83 *
HORIZONTAL_COORDINATE_SYSTEM UTM *
COORDINATE_ZONE 11 *
HORIZONTAL_UNITS METERS *
HORIZONTAL_RESOLUTION 1.0 *
SECONDARY_HORIZONTAL_DATUM NAD27 *
XY_ORIGIN 266674.294 4320512.980 *
SECONDARY_XY_ORIGIN 266755.938 4320312.632 *
NATION US *
STATE NV *
NW_QUAD_CORNER_XY 267266.733 4320212.980 *
NE_QUAD_CORNER_XY 272679.939 4320054.933 *
SE_QUAD_CORNER_XY 272479.918 4313117.742 *
SW_QUAD_CORNER_XY 267061.941 4313275.715 *
SECONDARY_NW_QUAD_XY 267260.771 4320005.108 *
SECONDARY_NE_QUAD_XY 272674.115 4319847.056 *
SECONDARY_SE_QUAD_XY 272474.098 4312910.002 *
SECONDARY_SW_QUAD_XY 267055.982 4313067.979 *
RMSE_XY 1.48 *
IMAGE_SOURCE "BLACK AND WHITE FILM" *
SOURCE_IMAGE_ID "NAPP 11555 84" *
SOURCE_IMAGE_DATE 1999 9 12 *
SOURCE_IMAGE_ID "NAPP 11555 83" *
SOURCE_IMAGE_DATE 1999 9 12 *
SOURCE_IMAGE_ID "NAPP 11555 85" *
SOURCE_IMAGE_DATE 1999 9 12 *
SOURCE_IMAGE_ID "NAPP 11547 51" *
SOURCE_IMAGE_DATE 1999 9 6 *
SOURCE_IMAGE_ID "NAPP 11547 52" *
SOURCE_IMAGE_DATE 1999 9 6 *
SOURCE_IMAGE_ID "NAPP 11547 53" *
SOURCE_IMAGE_DATE 1999 9 6 *
SOURCE_DEM_DATE 2003 1 1 *
AGENCY "WESTERN MAPPING CENTER (WMC)" *
PRODUCER "USDA FS GEOSPATIAL SERVICE AND TECHNOLOGY CENTER" *
PRODUCTION_SYSTEM "ORBIT OR_RECTIFY V.5.2" *
STANDARD_VERSION 1996 12 *
METADATA_DATE 2003 3 6 *
DATA_FILE_SIZE 48581424 *
BYTE_COUNT 6306 * * * * * * * * * * * * * * * * * * * * * * * * * *
END_USGS_HEADER *
