BEGIN_USGS_DOQ_HEADER *
QUADRANGLE_NAME "SOUTH LAKE TAHOE" 3.45 or 7.5-min. name*
QUADRANT SW quadrant indicator if cell size = 3.75-minutes*
WEST_LONGITUDE -120 0 0.000 signed deg min sec SDDD MM SS.SSS*
EAST_LONGITUDE -119 56 15.000 signed deg min sec SDDD MM SS.SSS*
NORTH_LATITUDE 38 56 15.000 signed deg min sec SDDD MM SS.SSS*
SOUTH_LATITUDE 38 52 30.000 signed deg min sec SDDD MM SS.SSS*
PRODUCTION_DATE 2000 4 21 yyyy mm dd*
RASTER_ORDER LEFT_RIGHT/TOP_BOTTOM video display order*
BAND_ORGANIZATION "SINGLE FILE" single file or BSQ, or BIL or BIP*
BAND_CONTENT BLACK&WHITE black&white or red green blue*
BITS_PER_PIXEL 8 radiometric resolution*
SAMPLES_AND_LINES 6336 7724 number of columns and rows*
HORIZONTAL_DATUM NAD83 primary horizontal datum*
HORIZONTAL_COORDINATE_SYSTEM UTM *
COORDINATE_ZONE 11 coordinate system zone number*
HORIZONTAL_UNITS METERS coordinate system units*
HORIZONTAL_RESOLUTION 1.00 pixel horiz. ground sample distance*
SECONDARY_HORIZONTAL_DATUM NAD27 secondary horizontal datum*
XY_ORIGIN 239353.000 4314422.000 coord. of upper left pixel pri. datum*
SECONDARY_XY_ORIGIN 239434.690 4314221.590 coord upper left pixel sec datum*
NATION US nation code*
STATE CA state fip code*
NW_QUAD_CORNER_XY 239971.148 4314121.456 XY coords. of pri. NW quad corner*
NE_QUAD_CORNER_XY 245389.432 4313944.856 XY coords. of pri. NE quad corner*
SE_QUAD_CORNER_XY 245165.850 4307007.334 XY coords. of pri. SE quad corner*
SW_QUAD_CORNER_XY 239742.797 4307183.851 XY coords. of pri. SW quad corner*
SECONDARY_NW_QUAD_XY 239964.490 4313913.740 XY coords. - sec. NW quad cor.*
SECONDARY_NE_QUAD_XY 245382.913 4313737.135 XY coords. - sec. NE quad cor.*
SECONDARY_SE_QUAD_XY 245159.336 4306799.750 XY coords. - sec. SE quad cor.*
SECONDARY_SW_QUAD_XY 239736.145 4306976.271 XY coords. - sec. SW quad cor.*
RMSE_XY 2.30 doq horiz. accuracy*
IMAGE_SOURCE "BLACK AND WHITE FILM" b&w, cir, natural color, other*
SOURCE_IMAGE_ID "NAPP 10554 67" source image id*
SOURCE_IMAGE_DATE 1998 8 25 source image date as yyyy mm dd*
SOURCE_DEM_DATE 1992 0 00 source dem date yyyy mm dd*
AGENCY "WESTERN MAPPING CENTER (WMC)" oversight agency*
PRODUCER "WESTERN MAPPING CENTER (WMC)" *
PRODUCTION_SYSTEM "DV2.6.3 10/9OV2.4 5/95" production system*
STANDARD_VERSION 1996 12 version of DOQ standard*
METADATA_DATE 2000 4 21 date created or changed, yyyy mm dd*
DATA_FILE_SIZE 48945600 data set size in bytes*
BYTE_COUNT 6336 header byte count* * * * * * * * * * * * * * * * * * * * * * * * * * * * * * * * * * * * *
END_USGS_HEADER *
