BEGIN_USGS_DOQ_HEADER *
QUADRANGLE_NAME "HULL CREEK" *
QUADRANT NW *
WEST_LONGITUDE -120 7 30.000 *
EAST_LONGITUDE -120 3 45.000 *
NORTH_LATITUDE 38 7 30.000 *
SOUTH_LATITUDE 38 3 45.000 *
PRODUCTION_DATE 2000 11 6 *
RASTER_ORDER LEFT_RIGHT/TOP_BOTTOM *
BAND_ORGANIZATION "SINGLE FILE" *
BAND_CONTENT BLACK&WHITE *
BITS_PER_PIXEL 8 *
SAMPLES_AND_LINES 6389 7720 *
HORIZONTAL_DATUM NAD83 *
HORIZONTAL_COORDINATE_SYSTEM UTM *
COORDINATE_ZONE 10 *
HORIZONTAL_UNITS METERS *
HORIZONTAL_RESOLUTION 1.0 *
SECONDARY_HORIZONTAL_DATUM NAD27 *
XY_ORIGIN 751624.927 4224061.339 *
SECONDARY_XY_ORIGIN 751720.467 4223867.142 *
NATION US *
STATE CA *
NW_QUAD_CORNER_XY 752013.641 4223589.589 *
NE_QUAD_CORNER_XY 757493.336 4223761.339 *
SE_QUAD_CORNER_XY 757712.945 4216824.528 *
SW_QUAD_CORNER_XY 752228.566 4216652.871 *
SECONDARY_NW_QUAD_XY 752019.965 4223383.713 *
SECONDARY_NE_QUAD_XY 757499.799 4223555.466 *
SECONDARY_SE_QUAD_XY 757719.402 4216618.804 *
SECONDARY_SW_QUAD_XY 752234.885 4216447.142 *
RMSE_XY 2.83 *
IMAGE_SOURCE "BLACK AND WHITE FILM" *
SOURCE_IMAGE_ID "NAPP 10557 46" *
SOURCE_IMAGE_DATE 1998 8 29 *
SOURCE_IMAGE_ID "NAPP 10557 45" *
SOURCE_IMAGE_DATE 1998 8 29 *
SOURCE_IMAGE_ID "NAPP 10557 47" *
SOURCE_IMAGE_DATE 1998 8 29 *
SOURCE_IMAGE_ID "NAPP 10549 57" *
SOURCE_IMAGE_DATE 1998 8 20 *
SOURCE_IMAGE_ID "NAPP 10549 56" *
SOURCE_IMAGE_DATE 1998 8 20 *
SOURCE_IMAGE_ID "NAPP 10549 55" *
SOURCE_IMAGE_DATE 1998 8 20 *
SOURCE_IMAGE_ID "NAPP 10565 47" *
SOURCE_IMAGE_DATE 1998 9 19 *
SOURCE_IMAGE_ID "NAPP 10565 46" *
SOURCE_IMAGE_DATE 1998 9 19 *
SOURCE_IMAGE_ID "NAPP 10565 45" *
SOURCE_IMAGE_DATE 1998 9 19 *
SOURCE_DEM_DATE 2000 0 0 *
AGENCY "WESTERN MAPPING CENTER (WMC)" *
PRODUCER "USDA FS GEOSPATIAL SERVICE AND TECHNOLOGY CENTER" *
PRODUCTION_SYSTEM "ORBIT OR_RECTIFY V.5.2" *
STANDARD_VERSION 1996 12 *
METADATA_DATE 2000 11 16 *
DATA_FILE_SIZE 49329469 *
BYTE_COUNT 6389 * * * * * * * * * * * * * * * * * * * * *
END_USGS_HEADER *
