BEGIN_USGS_DOQ_HEADER *
QUADRANGLE_NAME "HULL CREEK" *
QUADRANT SE *
WEST_LONGITUDE -120 3 45.000 *
EAST_LONGITUDE -120 0 0.000 *
NORTH_LATITUDE 38 3 45.000 *
SOUTH_LATITUDE 38 0 0.000 *
PRODUCTION_DATE 2000 11 6 *
RASTER_ORDER LEFT_RIGHT/TOP_BOTTOM *
BAND_ORGANIZATION "SINGLE FILE" *
BAND_CONTENT BLACK&WHITE *
BITS_PER_PIXEL 8 *
SAMPLES_AND_LINES 6398 7724 *
HORIZONTAL_DATUM NAD83 *
HORIZONTAL_COORDINATE_SYSTEM UTM *
COORDINATE_ZONE 10 *
HORIZONTAL_UNITS METERS *
HORIZONTAL_RESOLUTION 1.0 *
SECONDARY_HORIZONTAL_DATUM NAD27 *
XY_ORIGIN 757323.865 4217299.885 *
SECONDARY_XY_ORIGIN 757419.401 4217105.791 *
NATION US *
STATE CA *
NW_QUAD_CORNER_XY 757712.945 4216824.528 *
NE_QUAD_CORNER_XY 763197.398 4216999.885 *
SE_QUAD_CORNER_XY 763421.376 4210063.034 *
SW_QUAD_CORNER_XY 757932.245 4209887.772 *
SECONDARY_NW_QUAD_XY 757719.402 4216618.804 *
SECONDARY_NE_QUAD_XY 763203.993 4216794.165 *
SECONDARY_SE_QUAD_XY 763427.966 4209857.463 *
SECONDARY_SW_QUAD_XY 757938.698 4209682.196 *
RMSE_XY 2.83 *
IMAGE_SOURCE "BLACK AND WHITE FILM" *
SOURCE_IMAGE_ID "NAPP 10565 48" *
SOURCE_IMAGE_DATE 1998 9 19 *
SOURCE_IMAGE_ID "NAPP 10549 96" *
SOURCE_IMAGE_DATE 1998 8 20 *
SOURCE_IMAGE_ID "NAPP 10565 47" *
SOURCE_IMAGE_DATE 1998 9 19 *
SOURCE_IMAGE_ID "NAPP 10557 43" *
SOURCE_IMAGE_DATE 1998 8 29 *
SOURCE_IMAGE_ID "NAPP 10557 44" *
SOURCE_IMAGE_DATE 1998 8 29 *
SOURCE_IMAGE_ID "NAPP 10557 45" *
SOURCE_IMAGE_DATE 1998 8 29 *
SOURCE_IMAGE_ID "NAPP 10554 38" *
SOURCE_IMAGE_DATE 1998 8 25 *
SOURCE_IMAGE_ID "NAPP 10554 39" *
SOURCE_IMAGE_DATE 1998 8 25 *
SOURCE_IMAGE_ID "NAPP 10554 40" *
SOURCE_IMAGE_DATE 1998 8 25 *
SOURCE_DEM_DATE 2000 0 0 *
AGENCY "WESTERN MAPPING CENTER (WMC)" *
PRODUCER "USDA FS GEOSPATIAL SERVICE AND TECHNOLOGY CENTER" *
PRODUCTION_SYSTEM "ORBIT OR_RECTIFY V.5.2" *
STANDARD_VERSION 1996 12 *
METADATA_DATE 2000 11 16 *
DATA_FILE_SIZE 49424550 *
BYTE_COUNT 6398 * * * * * * * * * * * * * * * * * * * * *
END_USGS_HEADER *
