BEGIN_USGS_DOQ_HEADER *
QUADRANGLE_NAME "TWAIN HARTE" *
QUADRANT NW *
WEST_LONGITUDE -120 15 0.000 *
EAST_LONGITUDE -120 11 15.000 *
NORTH_LATITUDE 38 7 30.000 *
SOUTH_LATITUDE 38 3 45.000 *
PRODUCTION_DATE 2000 11 3 *
RASTER_ORDER LEFT_RIGHT/TOP_BOTTOM *
BAND_ORGANIZATION "SINGLE FILE" *
BAND_CONTENT BLACK&WHITE *
BITS_PER_PIXEL 8 *
SAMPLES_AND_LINES 6379 7712 *
HORIZONTAL_DATUM NAD83 *
HORIZONTAL_COORDINATE_SYSTEM UTM *
COORDINATE_ZONE 10 *
HORIZONTAL_UNITS METERS *
HORIZONTAL_RESOLUTION 1.0 *
SECONDARY_HORIZONTAL_DATUM NAD27 *
XY_ORIGIN 740665.410 4223721.542 *
SECONDARY_XY_ORIGIN 740761.019 4223527.090 *
NATION US *
STATE CA *
NW_QUAD_CORNER_XY 741054.463 4223257.197 *
NE_QUAD_CORNER_XY 746534.017 4223421.542 *
SE_QUAD_CORNER_XY 746744.259 4216484.914 *
SW_QUAD_CORNER_XY 741260.023 4216320.657 *
SECONDARY_NW_QUAD_XY 741060.513 4223051.313 *
SECONDARY_NE_QUAD_XY 746540.204 4223215.661 *
SECONDARY_SE_QUAD_XY 746750.441 4216279.181 *
SECONDARY_SW_QUAD_XY 741266.069 4216114.921 *
RMSE_XY 1.58 *
IMAGE_SOURCE "BLACK AND WHITE FILM" *
SOURCE_IMAGE_ID "NAPP 10549 227" *
SOURCE_IMAGE_DATE 1998 8 20 *
SOURCE_IMAGE_ID "NAPP 10549 226" *
SOURCE_IMAGE_DATE 1998 8 20 *
SOURCE_IMAGE_ID "NAPP 10549 228" *
SOURCE_IMAGE_DATE 1998 8 20 *
SOURCE_IMAGE_ID "NAPP 10557 71" *
SOURCE_IMAGE_DATE 1998 8 29 *
SOURCE_IMAGE_ID "NAPP 10557 72" *
SOURCE_IMAGE_DATE 1998 8 29 *
SOURCE_IMAGE_ID "NAPP 10557 73" *
SOURCE_IMAGE_DATE 1998 8 29 *
SOURCE_IMAGE_ID "NAPP 10549 57" *
SOURCE_IMAGE_DATE 1998 8 20 *
SOURCE_IMAGE_ID "NAPP 10549 56" *
SOURCE_IMAGE_DATE 1998 8 20 *
SOURCE_IMAGE_ID "NAPP 10549 55" *
SOURCE_IMAGE_DATE 1998 8 20 *
SOURCE_DEM_DATE 2000 0 0 *
AGENCY "WESTERN MAPPING CENTER (WMC)" *
PRODUCER "USDA FS GEOSPATIAL SERVICE AND TECHNOLOGY CENTER" *
PRODUCTION_SYSTEM "ORBIT OR_RECTIFY V.5.2" *
STANDARD_VERSION 1996 12 *
METADATA_DATE 2000 11 16 *
DATA_FILE_SIZE 49201227 *
BYTE_COUNT 6379 * * * * * * * * * * * * * * * * * * * * *
END_USGS_HEADER *
