BEGIN_USGS_DOQ_HEADER *
QUADRANGLE_NAME "TWAIN HARTE" *
QUADRANT SE *
WEST_LONGITUDE -120 11 15.000 *
EAST_LONGITUDE -120 7 30.000 *
NORTH_LATITUDE 38 3 45.000 *
SOUTH_LATITUDE 38 0 0.000 *
PRODUCTION_DATE 2000 11 3 *
RASTER_ORDER LEFT_RIGHT/TOP_BOTTOM *
BAND_ORGANIZATION "SINGLE FILE" *
BAND_CONTENT BLACK&WHITE *
BITS_PER_PIXEL 8 *
SAMPLES_AND_LINES 6388 7716 *
HORIZONTAL_DATUM NAD83 *
HORIZONTAL_COORDINATE_SYSTEM UTM *
COORDINATE_ZONE 10 *
HORIZONTAL_UNITS METERS *
HORIZONTAL_RESOLUTION 1.0 *
SECONDARY_HORIZONTAL_DATUM NAD27 *
XY_ORIGIN 746354.876 4216952.871 *
SECONDARY_XY_ORIGIN 746450.443 4216758.513 *
NATION US *
STATE CA *
NW_QUAD_CORNER_XY 746744.259 4216484.914 *
NE_QUAD_CORNER_XY 752228.566 4216652.871 *
SE_QUAD_CORNER_XY 752443.190 4209716.208 *
SW_QUAD_CORNER_XY 746954.207 4209548.342 *
SECONDARY_NW_QUAD_XY 746750.441 4216279.181 *
SECONDARY_NE_QUAD_XY 752234.885 4216447.142 *
SECONDARY_SE_QUAD_XY 752449.505 4209510.628 *
SECONDARY_SW_QUAD_XY 746960.385 4209342.758 *
RMSE_XY 1.58 *
IMAGE_SOURCE "BLACK AND WHITE FILM" *
SOURCE_IMAGE_ID "NAPP 10549 58" *
SOURCE_IMAGE_DATE 1998 8 20 *
SOURCE_IMAGE_ID "NAPP 10549 59" *
SOURCE_IMAGE_DATE 1998 8 20 *
SOURCE_IMAGE_ID "NAPP 10549 57" *
SOURCE_IMAGE_DATE 1998 8 20 *
SOURCE_IMAGE_ID "NAPP 10549 224" *
SOURCE_IMAGE_DATE 1998 8 20 *
SOURCE_IMAGE_ID "NAPP 10549 225" *
SOURCE_IMAGE_DATE 1998 8 20 *
SOURCE_IMAGE_ID "NAPP 10549 226" *
SOURCE_IMAGE_DATE 1998 8 20 *
SOURCE_IMAGE_ID "NAPP 10557 43" *
SOURCE_IMAGE_DATE 1998 8 29 *
SOURCE_IMAGE_ID "NAPP 10557 44" *
SOURCE_IMAGE_DATE 1998 8 29 *
SOURCE_IMAGE_ID "NAPP 10557 45" *
SOURCE_IMAGE_DATE 1998 8 29 *
SOURCE_DEM_DATE 2000 0 0 *
AGENCY "WESTERN MAPPING CENTER (WMC)" *
PRODUCER "USDA FS GEOSPATIAL SERVICE AND TECHNOLOGY CENTER" *
PRODUCTION_SYSTEM "ORBIT OR_RECTIFY V.5.2" *
STANDARD_VERSION 1996 12 *
METADATA_DATE 2000 11 16 *
DATA_FILE_SIZE 49296196 *
BYTE_COUNT 6388 * * * * * * * * * * * * * * * * * * * * *
END_USGS_HEADER *
