BEGIN_USGS_DOQ_HEADER *
QUADRANGLE_NAME "COLUMBIA SE" *
QUADRANT NE *
WEST_LONGITUDE -120 18 45.000 *
EAST_LONGITUDE -120 15 0.000 *
NORTH_LATITUDE 38 7 30.000 *
SOUTH_LATITUDE 38 3 45.000 *
PRODUCTION_DATE 2000 11 3 *
RASTER_ORDER LEFT_RIGHT/TOP_BOTTOM *
BAND_ORGANIZATION "SINGLE FILE" *
BAND_CONTENT BLACK&WHITE *
BITS_PER_PIXEL 8 *
SAMPLES_AND_LINES 6375 7708 *
HORIZONTAL_DATUM NAD83 *
HORIZONTAL_COORDINATE_SYSTEM UTM *
COORDINATE_ZONE 10 *
HORIZONTAL_UNITS METERS *
HORIZONTAL_RESOLUTION 1.0 *
SECONDARY_HORIZONTAL_DATUM NAD27 *
XY_ORIGIN 735185.712 4223557.197 *
SECONDARY_XY_ORIGIN 735281.397 4223362.702 *
NATION US *
STATE CA *
NW_QUAD_CORNER_XY 735574.978 4223096.552 *
NE_QUAD_CORNER_XY 741054.463 4223257.197 *
SE_QUAD_CORNER_XY 741260.023 4216320.657 *
SW_QUAD_CORNER_XY 735775.857 4216160.098 *
SECONDARY_NW_QUAD_XY 735580.891 4222890.664 *
SECONDARY_NE_QUAD_XY 741060.513 4223051.313 *
SECONDARY_SE_QUAD_XY 741266.069 4216114.921 *
SECONDARY_SW_QUAD_XY 735781.765 4215954.358 *
RMSE_XY 1.58 *
IMAGE_SOURCE "BLACK AND WHITE FILM" *
SOURCE_IMAGE_ID "NAPP 10557 72" *
SOURCE_IMAGE_DATE 1998 8 29 *
SOURCE_IMAGE_ID "NAPP 10557 71" *
SOURCE_IMAGE_DATE 1998 8 29 *
SOURCE_IMAGE_ID "NAPP 10557 73" *
SOURCE_IMAGE_DATE 1998 8 29 *
SOURCE_IMAGE_ID "NAPP 10557 92" *
SOURCE_IMAGE_DATE 1998 8 29 *
SOURCE_IMAGE_ID "NAPP 10557 91" *
SOURCE_IMAGE_DATE 1998 8 29 *
SOURCE_IMAGE_ID "NAPP 10557 90" *
SOURCE_IMAGE_DATE 1998 8 29 *
SOURCE_IMAGE_ID "NAPP 10549 226" *
SOURCE_IMAGE_DATE 1998 8 20 *
SOURCE_IMAGE_ID "NAPP 10549 227" *
SOURCE_IMAGE_DATE 1998 8 20 *
SOURCE_IMAGE_ID "NAPP 10549 228" *
SOURCE_IMAGE_DATE 1998 8 20 *
SOURCE_DEM_DATE 2000 0 0 *
AGENCY "WESTERN MAPPING CENTER (WMC)" *
PRODUCER "USDA FS GEOSPATIAL SERVICE AND TECHNOLOGY CENTER" *
PRODUCTION_SYSTEM "ORBIT OR_RECTIFY V.5.2" *
STANDARD_VERSION 1996 12 *
METADATA_DATE 2000 11 16 *
DATA_FILE_SIZE 49144875 *
BYTE_COUNT 6375 * * * * * * * * * * * * * * * * * * * * *
END_USGS_HEADER *
