BEGIN_USGS_DOQ_HEADER *
QUADRANGLE_NAME "COLUMBIA SE" *
QUADRANT SW *
WEST_LONGITUDE -120 22 30.000 *
EAST_LONGITUDE -120 18 45.000 *
NORTH_LATITUDE 38 3 45.000 *
SOUTH_LATITUDE 38 0 0.000 *
PRODUCTION_DATE 2000 11 3 *
RASTER_ORDER LEFT_RIGHT/TOP_BOTTOM *
BAND_ORGANIZATION "SINGLE FILE" *
BAND_CONTENT BLACK&WHITE *
BITS_PER_PIXEL 8 *
SAMPLES_AND_LINES 6375 7704 *
HORIZONTAL_DATUM NAD83 *
HORIZONTAL_COORDINATE_SYSTEM UTM *
COORDINATE_ZONE 10 *
HORIZONTAL_UNITS METERS *
HORIZONTAL_RESOLUTION 1.0 *
SECONDARY_HORIZONTAL_DATUM NAD27 *
XY_ORIGIN 729902.306 4216460.098 *
SECONDARY_XY_ORIGIN 729998.036 4216265.519 *
NATION US *
STATE CA *
NW_QUAD_CORNER_XY 730291.759 4216003.238 *
NE_QUAD_CORNER_XY 735775.857 4216160.098 *
SE_QUAD_CORNER_XY 735976.455 4209223.702 *
SW_QUAD_CORNER_XY 730487.682 4209066.927 *
SECONDARY_NW_QUAD_XY 730297.529 4215797.494 *
SECONDARY_NE_QUAD_XY 735781.765 4215954.358 *
SECONDARY_SE_QUAD_XY 735982.359 4209018.111 *
SECONDARY_SW_QUAD_XY 730493.449 4208861.332 *
RMSE_XY 1.58 *
IMAGE_SOURCE "BLACK AND WHITE FILM" *
SOURCE_IMAGE_ID "NAPP 10557 93" *
SOURCE_IMAGE_DATE 1998 9 16 *
SOURCE_IMAGE_ID "NAPP 10557 94" *
SOURCE_IMAGE_DATE 1998 9 16 *
SOURCE_IMAGE_ID "NAPP 10557 92" *
SOURCE_IMAGE_DATE 1998 8 29 *
SOURCE_IMAGE_ID "NAPP 10557 99" *
SOURCE_IMAGE_DATE 1998 8 29 *
SOURCE_IMAGE_ID "NAPP 10557 100" *
SOURCE_IMAGE_DATE 1998 8 29 *
SOURCE_IMAGE_ID "NAPP 10557 101" *
SOURCE_IMAGE_DATE 1998 8 29 *
SOURCE_IMAGE_ID "NAPP 10557 69" *
SOURCE_IMAGE_DATE 1998 8 29 *
SOURCE_IMAGE_ID "NAPP 10557 70" *
SOURCE_IMAGE_DATE 1998 8 29 *
SOURCE_IMAGE_ID "NAPP 10557 71" *
SOURCE_IMAGE_DATE 1998 8 29 *
SOURCE_DEM_DATE 2000 0 0 *
AGENCY "WESTERN MAPPING CENTER (WMC)" *
PRODUCER "USDA FS GEOSPATIAL SERVICE AND TECHNOLOGY CENTER" *
PRODUCTION_SYSTEM "ORBIT OR_RECTIFY V.5.2" *
STANDARD_VERSION 1996 12 *
METADATA_DATE 2000 11 16 *
DATA_FILE_SIZE 49119375 *
BYTE_COUNT 6375 * * * * * * * * * * * * * * * * * * * * *
END_USGS_HEADER *
