BEGIN_USGS_DOQ_HEADER *
QUADRANGLE_NAME "COLUMBIA" *
QUADRANT NE *
WEST_LONGITUDE -120 26 15.000 *
EAST_LONGITUDE -120 22 30.000 *
NORTH_LATITUDE 38 7 30.000 *
SOUTH_LATITUDE 38 3 45.000 *
PRODUCTION_DATE 2000 11 3 *
RASTER_ORDER LEFT_RIGHT/TOP_BOTTOM *
BAND_ORGANIZATION "SINGLE FILE" *
BAND_CONTENT BLACK&WHITE *
BITS_PER_PIXEL 8 *
SAMPLES_AND_LINES 6366 7701 *
HORIZONTAL_DATUM NAD83 *
HORIZONTAL_COORDINATE_SYSTEM UTM *
COORDINATE_ZONE 10 *
HORIZONTAL_UNITS METERS *
HORIZONTAL_RESOLUTION 1.0 *
SECONDARY_HORIZONTAL_DATUM NAD27 *
XY_ORIGIN 724226.015 4223239.107 *
SECONDARY_XY_ORIGIN 724321.852 4223044.526 *
NATION US *
STATE CA *
NW_QUAD_CORNER_XY 724616.208 4222786.362 *
NE_QUAD_CORNER_XY 730095.560 4222939.607 *
SE_QUAD_CORNER_XY 730291.759 4216003.238 *
SW_QUAD_CORNER_XY 724807.726 4215850.075 *
SECONDARY_NW_QUAD_XY 724621.845 4222580.467 *
SECONDARY_NE_QUAD_XY 730101.335 4222733.715 *
SECONDARY_SE_QUAD_XY 730297.529 4215797.494 *
SECONDARY_SW_QUAD_XY 724813.360 4215644.328 *
RMSE_XY 1.58 *
IMAGE_SOURCE "BLACK AND WHITE FILM" *
SOURCE_IMAGE_ID "NAPP 10557 102" *
SOURCE_IMAGE_DATE 1998 8 29 *
SOURCE_IMAGE_ID "NAPP 10557 101" *
SOURCE_IMAGE_DATE 1998 8 29 *
SOURCE_IMAGE_ID "NAPP 10557 103" *
SOURCE_IMAGE_DATE 1998 8 29 *
SOURCE_IMAGE_ID "NAPP 10545 141" *
SOURCE_IMAGE_DATE 1998 8 15 *
SOURCE_IMAGE_ID "NAPP 10545 142" *
SOURCE_IMAGE_DATE 1998 8 15 *
SOURCE_IMAGE_ID "NAPP 10545 143" *
SOURCE_IMAGE_DATE 1998 8 15 *
SOURCE_IMAGE_ID "NAPP 10557 92" *
SOURCE_IMAGE_DATE 1998 8 29 *
SOURCE_IMAGE_ID "NAPP 10557 91" *
SOURCE_IMAGE_DATE 1998 8 29 *
SOURCE_IMAGE_ID "NAPP 10557 90" *
SOURCE_IMAGE_DATE 1998 8 29 *
SOURCE_DEM_DATE 2000 0 0 *
AGENCY "WESTERN MAPPING CENTER (WMC)" *
PRODUCER "USDA FS GEOSPATIAL SERVICE AND TECHNOLOGY CENTER" *
PRODUCTION_SYSTEM "ORBIT OR_RECTIFY V.5.2" *
STANDARD_VERSION 1996 12 *
METADATA_DATE 2000 11 16 *
DATA_FILE_SIZE 49030932 *
BYTE_COUNT 6366 * * * * * * * * * * * * * * * * * * * * *
END_USGS_HEADER *
