BEGIN_USGS_DOQ_HEADER *
QUADRANGLE_NAME "COLUMBIA" *
QUADRANT SW *
WEST_LONGITUDE -120 30 0.000 *
EAST_LONGITUDE -120 26 15.000 *
NORTH_LATITUDE 38 3 45.000 *
SOUTH_LATITUDE 38 0 0.000 *
PRODUCTION_DATE 2000 11 3 *
RASTER_ORDER LEFT_RIGHT/TOP_BOTTOM *
BAND_ORGANIZATION "SINGLE FILE" *
BAND_CONTENT BLACK&WHITE *
BITS_PER_PIXEL 8 *
SAMPLES_AND_LINES 6366 7696 *
HORIZONTAL_DATUM NAD83 *
HORIZONTAL_COORDINATE_SYSTEM UTM *
COORDINATE_ZONE 10 *
HORIZONTAL_UNITS METERS *
HORIZONTAL_RESOLUTION 1.0 *
SECONDARY_HORIZONTAL_DATUM NAD27 *
XY_ORIGIN 718933.388 4216150.075 *
SECONDARY_XY_ORIGIN 719029.265 4215955.398 *
NATION US *
STATE CA *
NW_QUAD_CORNER_XY 719323.759 4215700.610 *
NE_QUAD_CORNER_XY 724807.726 4215850.075 *
SE_QUAD_CORNER_XY 724998.976 4208913.847 *
SW_QUAD_CORNER_XY 719510.336 4208764.463 *
SECONDARY_NW_QUAD_XY 719329.255 4215494.858 *
SECONDARY_NE_QUAD_XY 724813.360 4215644.328 *
SECONDARY_SE_QUAD_XY 725004.606 4208708.249 *
SECONDARY_SW_QUAD_XY 719515.829 4208558.861 *
RMSE_XY 1.58 *
IMAGE_SOURCE "BLACK AND WHITE FILM" *
SOURCE_IMAGE_ID "NAPP 10545 140" *
SOURCE_IMAGE_DATE 1998 8 15 *
SOURCE_IMAGE_ID "NAPP 10545 139" *
SOURCE_IMAGE_DATE 1998 8 15 *
SOURCE_IMAGE_ID "NAPP 10545 141" *
SOURCE_IMAGE_DATE 1998 8 15 *
SOURCE_IMAGE_ID "NAPP 10557 99" *
SOURCE_IMAGE_DATE 1998 8 29 *
SOURCE_IMAGE_ID "NAPP 10557 100" *
SOURCE_IMAGE_DATE 1998 8 29 *
SOURCE_IMAGE_ID "NAPP 10557 101" *
SOURCE_IMAGE_DATE 1998 8 29 *
SOURCE_DEM_DATE 2000 0 0 *
AGENCY "WESTERN MAPPING CENTER (WMC)" *
PRODUCER "USDA FS GEOSPATIAL SERVICE AND TECHNOLOGY CENTER" *
PRODUCTION_SYSTEM "ORBIT OR_RECTIFY V.5.2" *
STANDARD_VERSION 1996 12 *
METADATA_DATE 2000 11 16 *
DATA_FILE_SIZE 48999102 *
BYTE_COUNT 6366 * * * * * * * * * * * * * * * * * * * * * * * * * * *
END_USGS_HEADER *
