FILENAME: 38120A52
QUADRANGLE_NAME: ANGELS CAMP
QUADRANT: NE
WEST_LONGITUDE: -120 33 45.00000
EAST_LONGITUDE: -120 30 0.00000
NORTH_LATITUDE: 38 7 30.00000
SOUTH_LATITUDE: 38 3 45.00000
PRODUCTION_DATE: 2001 12 19
RASTER_ORDER: LEFT_RIGHT/TOP_BOTTOM
BAND_ORGANIZATION: SINGLE FILE
BAND_CONTENT: BLACK&WHITE
BAND_CONTENT: UNDEFINED
BAND_CONTENT: UNDEFINED
BITS_PER_PIXEL: 8
SAMPLES_AND_LINES: 6390 7710
HORIZONTAL_DATUM: NAD83
HORIZONTAL_COORDINATE_SYSTEM: UTM
COORDINATE_ZONE: 10
HORIZONTAL_UNITS: METERS
HORIZONTAL_RESOLUTION: 1.00000
SECONDARY_HORIZONTAL_DATUM: NAD27
XY_ORIGIN: 713250.00000 4222950.00000
SECONDARY_XY_ORIGIN: 713346.02800 4222755.30000
NATION: US
STATE: CA
NW_QUAD_CORNER_XY: 713657.69400 4222490.97000
NE_QUAD_CORNER_XY: 719136.92000 4222636.81700
SE_QUAD_CORNERY_XY: 719323.75900 4215700.61000
SW_QUAD_CORNER_XY: 713839.85400 4215554.84200
SECONDARY_NW_QUAD_XY: 713663.05300 4222285.06700
SECONDARY_NE_QUAD_XY: 719142.41600 4222430.91700
SECONDARY_SE_QUAD_XY: 719329.25100 4215494.85900
SECONDARY_SW_QUAD_XY: 713845.20900 4215349.08700
RMSE_XY: 1.96000
IMAGE_SOURCE: BLACK AND WHITE FILM
SOURCE_IMAGE_ID: NAPP 10545 153
SOURCE_IMAGE_DATE: 1998 08 15
SOURCE_IMAGE_ID: NAPP 10545 151
SOURCE_IMAGE_DATE: 1998 08 15
SOURCE_DEM_DATE: 1962 00 00
AGENCY: WESTERN MAPPING CENTER (WMC)
PRODUCER: SANBORN COLORADO, L.L.C.
PRODUCTION_SYSTEM: ORBIT OR_RECTIFY V.5.2
COMPRESSION: UNDEFINED
STANDARD_VERSION: 1996 12
METADATA_DATE: 2002 01 07
DATA_FILE_SIZE: 49273290
BYTE_COUNT: 6390
