FILENAME: 38120A51
QUADRANGLE_NAME: ANGELS CAMP
QUADRANT: NW
WEST_LONGITUDE: -120 37 30.00000
EAST_LONGITUDE: -120 33 45.00000
NORTH_LATITUDE: 38 7 30.00000
SOUTH_LATITUDE: 38 3 45.00000
PRODUCTION_DATE: 2001 12 19
RASTER_ORDER: LEFT_RIGHT/TOP_BOTTOM
BAND_ORGANIZATION: SINGLE FILE
BAND_CONTENT: BLACK&WHITE
BAND_CONTENT: UNDEFINED
BAND_CONTENT: UNDEFINED
BITS_PER_PIXEL: 8
SAMPLES_AND_LINES: 6390 7710
HORIZONTAL_DATUM: NAD83
HORIZONTAL_COORDINATE_SYSTEM: UTM
COORDINATE_ZONE: 10
HORIZONTAL_UNITS: METERS
HORIZONTAL_RESOLUTION: 1.00000
SECONDARY_HORIZONTAL_DATUM: NAD27
XY_ORIGIN: 707760.00000 4222800.00000
SECONDARY_XY_ORIGIN: 707856.13700 4222605.22700
NATION: US
STATE: CA
NW_QUAD_CORNER_XY: 708178.52900 4222348.82100
NE_QUAD_CORNER_XY: 713657.69400 4222490.97000
SE_QUAD_CORNERY_XY: 713839.85400 4215554.84200
SW_QUAD_CORNER_XY: 708356.01100 4215412.77000
SECONDARY_NW_QUAD_XY: 708183.75000 4222142.91500
SECONDARY_NE_QUAD_XY: 713663.05300 4222285.06700
SECONDARY_SE_QUAD_XY: 713845.20900 4215349.08700
SECONDARY_SW_QUAD_XY: 708361.22900 4215207.01100
RMSE_XY: 1.82000
IMAGE_SOURCE: BLACK AND WHITE FILM
SOURCE_IMAGE_ID: NAPP 10545 256
SOURCE_IMAGE_DATE: 1998 08 15
SOURCE_DEM_DATE: 1962 00 00
AGENCY: WESTERN MAPPING CENTER (WMC)
PRODUCER: SANBORN COLORADO, L.L.C.
PRODUCTION_SYSTEM: ORBIT OR_RECTIFY V.5.2
COMPRESSION: UNDEFINED
STANDARD_VERSION: 1996 12
METADATA_DATE: 2002 01 07
DATA_FILE_SIZE: 49273290
BYTE_COUNT: 6390
