FILENAME: 38120A61
QUADRANGLE_NAME: SALT SPRING VALLEY
QUADRANT: NW
WEST_LONGITUDE: -120 45 0.00000
EAST_LONGITUDE: -120 41 15.00000
NORTH_LATITUDE: 38 7 30.00000
SOUTH_LATITUDE: 38 3 45.00000
PRODUCTION_DATE: 2001 12 16
RASTER_ORDER: LEFT_RIGHT/TOP_BOTTOM
BAND_ORGANIZATION: SINGLE FILE
BAND_CONTENT: BLACK&WHITE
BAND_CONTENT: UNDEFINED
BAND_CONTENT: UNDEFINED
BITS_PER_PIXEL: 8
SAMPLES_AND_LINES: 6390 7710
HORIZONTAL_DATUM: NAD83
HORIZONTAL_COORDINATE_SYSTEM: UTM
COORDINATE_ZONE: 10
HORIZONTAL_UNITS: METERS
HORIZONTAL_RESOLUTION: 1.00000
SECONDARY_HORIZONTAL_DATUM: NAD27
XY_ORIGIN: 696810.00000 4222530.00000
SECONDARY_XY_ORIGIN: 696906.35700 4222335.08000
NATION: US
STATE: CA
NW_QUAD_CORNER_XY: 697220.37600 4222075.61800
NE_QUAD_CORNER_XY: 702699.42300 4222210.37100
SE_QUAD_CORNERY_XY: 702872.22800 4215274.39400
SW_QUAD_CORNER_XY: 697388.50300 4215139.71300
SECONDARY_NW_QUAD_XY: 697225.32200 4221869.70400
SECONDARY_NE_QUAD_XY: 702704.50700 4222004.46100
SECONDARY_SE_QUAD_XY: 702877.30800 4215068.63200
SECONDARY_SW_QUAD_XY: 697393.44600 4214933.94800
RMSE_XY: 1.18000
IMAGE_SOURCE: BLACK AND WHITE FILM
SOURCE_IMAGE_ID: NAPP 10546 121
SOURCE_IMAGE_DATE: 1998 08 15
SOURCE_IMAGE_ID: NAPP 10520 30
SOURCE_IMAGE_DATE: 1998 08 16
SOURCE_IMAGE_ID: NAPP 10546 123
SOURCE_IMAGE_DATE: 1998 08 15
SOURCE_IMAGE_ID: NAPP 10546 18
SOURCE_IMAGE_DATE: 1998 08 15
SOURCE_IMAGE_ID: NAPP 10546 119
SOURCE_IMAGE_DATE: 1998 08 15
SOURCE_DEM_DATE: 1962 00 00
AGENCY: WESTERN MAPPING CENTER (WMC)
PRODUCER: SANBORN COLORADO, L.L.C.
PRODUCTION_SYSTEM: ORBIT OR_RECTIFY V.5.2
COMPRESSION: UNDEFINED
STANDARD_VERSION: 1996 12
METADATA_DATE: 2002 01 02
DATA_FILE_SIZE: 49273290
BYTE_COUNT: 6390
