FILENAME: 38120A63
QUADRANGLE_NAME: SALT SPRING VALLEY
QUADRANT: SE
WEST_LONGITUDE: -120 41 15.00000
EAST_LONGITUDE: -120 37 30.00000
NORTH_LATITUDE: 38 3 45.00000
SOUTH_LATITUDE: 38 0 0.00000
PRODUCTION_DATE: 2001 12 16
RASTER_ORDER: LEFT_RIGHT/TOP_BOTTOM
BAND_ORGANIZATION: SINGLE FILE
BAND_CONTENT: BLACK&WHITE
BAND_CONTENT: UNDEFINED
BAND_CONTENT: UNDEFINED
BITS_PER_PIXEL: 8
SAMPLES_AND_LINES: 6360 7710
HORIZONTAL_DATUM: NAD83
HORIZONTAL_COORDINATE_SYSTEM: UTM
COORDINATE_ZONE: 10
HORIZONTAL_UNITS: METERS
HORIZONTAL_RESOLUTION: 1.00000
SECONDARY_HORIZONTAL_DATUM: NAD27
XY_ORIGIN: 702480.00000 4215720.00000
SECONDARY_XY_ORIGIN: 702576.26200 4215525.09600
NATION: US
STATE: CA
NW_QUAD_CORNER_XY: 702872.22800 4215274.39400
NE_QUAD_CORNER_XY: 708356.01100 4215412.77000
SE_QUAD_CORNERY_XY: 708533.24400 4208476.78000
SW_QUAD_CORNER_XY: 703044.79000 4208338.47900
SECONDARY_NW_QUAD_XY: 702877.30800 4215068.63200
SECONDARY_NE_QUAD_XY: 708361.22900 4215207.01100
SECONDARY_SE_QUAD_XY: 708538.45800 4208271.17000
SECONDARY_SW_QUAD_XY: 703049.86600 4208132.86600
RMSE_XY: 2.58000
IMAGE_SOURCE: BLACK AND WHITE FILM
SOURCE_IMAGE_ID: NAPP 10546 20
SOURCE_IMAGE_DATE: 1998 08 15
SOURCE_IMAGE_ID: NAPP 10546 119
SOURCE_IMAGE_DATE: 1998 08 15
SOURCE_IMAGE_ID: NAPP 10546 22
SOURCE_IMAGE_DATE: 1998 08 15
SOURCE_DEM_DATE: 1962 00 00
AGENCY: WESTERN MAPPING CENTER (WMC)
PRODUCER: SANBORN COLORADO, L.L.C.
PRODUCTION_SYSTEM: ORBIT OR_RECTIFY V.5.2
COMPRESSION: UNDEFINED
STANDARD_VERSION: 1996 12
METADATA_DATE: 2002 01 02
DATA_FILE_SIZE: 49041960
BYTE_COUNT: 6360
