FILENAME: 38120A64
QUADRANGLE_NAME: SALT SPRING VALLEY
QUADRANT: SW
WEST_LONGITUDE: -120 45 0.00000
EAST_LONGITUDE: -120 41 15.00000
NORTH_LATITUDE: 38 3 45.00000
SOUTH_LATITUDE: 38 0 0.00000
PRODUCTION_DATE: 2001 12 16
RASTER_ORDER: LEFT_RIGHT/TOP_BOTTOM
BAND_ORGANIZATION: SINGLE FILE
BAND_CONTENT: BLACK&WHITE
BAND_CONTENT: UNDEFINED
BAND_CONTENT: UNDEFINED
BITS_PER_PIXEL: 8
SAMPLES_AND_LINES: 6360 7710
HORIZONTAL_DATUM: NAD83
HORIZONTAL_COORDINATE_SYSTEM: UTM
COORDINATE_ZONE: 10
HORIZONTAL_UNITS: METERS
HORIZONTAL_RESOLUTION: 1.00000
SECONDARY_HORIZONTAL_DATUM: NAD27
XY_ORIGIN: 696990.00000 4215600.00000
SECONDARY_XY_ORIGIN: 697086.39100 4215405.01900
NATION: US
STATE: CA
NW_QUAD_CORNER_XY: 697388.50300 4215139.71300
NE_QUAD_CORNER_XY: 702872.22800 4215274.39400
SE_QUAD_CORNERY_XY: 703044.79000 4208338.47900
SW_QUAD_CORNER_XY: 697556.39500 4208203.87100
SECONDARY_NW_QUAD_XY: 697393.44600 4214933.94800
SECONDARY_NE_QUAD_XY: 702877.30800 4215068.63200
SECONDARY_SE_QUAD_XY: 703049.86600 4208132.86600
SECONDARY_SW_QUAD_XY: 697561.33400 4207998.25500
RMSE_XY: 2.20000
IMAGE_SOURCE: BLACK AND WHITE FILM
SOURCE_IMAGE_ID: NAPP 10546 119
SOURCE_IMAGE_DATE: 1998 08 15
SOURCE_IMAGE_ID: NAPP 10561 23
SOURCE_IMAGE_DATE: 1998 09 16
SOURCE_IMAGE_ID: NAPP 10546 20
SOURCE_IMAGE_DATE: 1998 08 15
SOURCE_DEM_DATE: 1962 00 00
AGENCY: WESTERN MAPPING CENTER (WMC)
PRODUCER: SANBORN COLORADO, L.L.C.
PRODUCTION_SYSTEM: ORBIT OR_RECTIFY V.5.2
COMPRESSION: UNDEFINED
STANDARD_VERSION: 1996 12
METADATA_DATE: 2002 01 02
DATA_FILE_SIZE: 49041960
BYTE_COUNT: 6360
