FILENAME: 38120A72
QUADRANGLE_NAME: JENNY LIND
QUADRANT: NE
WEST_LONGITUDE: -120 48 45.00000
EAST_LONGITUDE: -120 45 0.00000
NORTH_LATITUDE: 38 7 30.00000
SOUTH_LATITUDE: 38 3 45.00000
PRODUCTION_DATE: 2001 12 13
RASTER_ORDER: LEFT_RIGHT/TOP_BOTTOM
BAND_ORGANIZATION: SINGLE FILE
BAND_CONTENT: BLACK&WHITE
BAND_CONTENT: UNDEFINED
BAND_CONTENT: UNDEFINED
BITS_PER_PIXEL: 8
SAMPLES_AND_LINES: 6390 7710
HORIZONTAL_DATUM: NAD83
HORIZONTAL_COORDINATE_SYSTEM: UTM
COORDINATE_ZONE: 10
HORIZONTAL_UNITS: METERS
HORIZONTAL_RESOLUTION: 1.00000
SECONDARY_HORIZONTAL_DATUM: NAD27
XY_ORIGIN: 691320.00000 4222380.00000
SECONDARY_XY_ORIGIN: 691416.36800 4222185.03600
NATION: US
STATE: CA
NW_QUAD_CORNER_XY: 691741.38400 4221944.56200
NE_QUAD_CORNER_XY: 697220.37600 4222075.61800
SE_QUAD_CORNERY_XY: 697388.50300 4215139.71300
SW_QUAD_CORNER_XY: 691904.83500 4215008.72800
SECONDARY_NW_QUAD_XY: 691746.19300 4221738.64500
SECONDARY_NE_QUAD_XY: 697225.32200 4221869.70400
SECONDARY_SE_QUAD_XY: 697393.44600 4214933.94800
SECONDARY_SW_QUAD_XY: 691909.64000 4214802.95900
RMSE_XY: 1.49000
IMAGE_SOURCE: BLACK AND WHITE FILM
SOURCE_IMAGE_ID: NAPP 10520 30
SOURCE_IMAGE_DATE: 1998 08 16
SOURCE_DEM_DATE: 1962 00 00
AGENCY: WESTERN MAPPING CENTER (WMC)
PRODUCER: SANBORN COLORADO, L.L.C.
PRODUCTION_SYSTEM: ORBIT OR_RECTIFY V.5.2
COMPRESSION: UNDEFINED
STANDARD_VERSION: 1996 12
METADATA_DATE: 2001 12 20
DATA_FILE_SIZE: 49273290
BYTE_COUNT: 6390
