FILENAME: 38120A74
QUADRANGLE_NAME: JENNY LIND
QUADRANT: SW
WEST_LONGITUDE: -120 52 30.00000
EAST_LONGITUDE: -120 48 45.00000
NORTH_LATITUDE: 38 3 45.00000
SOUTH_LATITUDE: 38 0 0.00000
PRODUCTION_DATE: 2001 12 13
RASTER_ORDER: LEFT_RIGHT/TOP_BOTTOM
BAND_ORGANIZATION: SINGLE FILE
BAND_CONTENT: BLACK&WHITE
BAND_CONTENT: UNDEFINED
BAND_CONTENT: UNDEFINED
BITS_PER_PIXEL: 8
SAMPLES_AND_LINES: 6360 7710
HORIZONTAL_DATUM: NAD83
HORIZONTAL_COORDINATE_SYSTEM: UTM
COORDINATE_ZONE: 10
HORIZONTAL_UNITS: METERS
HORIZONTAL_RESOLUTION: 1.00000
SECONDARY_HORIZONTAL_DATUM: NAD27
XY_ORIGIN: 686010.00000 4215330.00000
SECONDARY_XY_ORIGIN: 686106.42900 4215134.93700
NATION: US
STATE: CA
NW_QUAD_CORNER_XY: 686421.22200 4214881.43700
NE_QUAD_CORNER_XY: 691904.83500 4215008.72800
SE_QUAD_CORNERY_XY: 692068.05700 4208072.95700
SW_QUAD_CORNER_XY: 686579.77400 4207945.73500
SECONDARY_NW_QUAD_XY: 686425.89000 4214675.66500
SECONDARY_NE_QUAD_XY: 691909.64000 4214802.95900
SECONDARY_SE_QUAD_XY: 692072.85900 4207867.33700
SECONDARY_SW_QUAD_XY: 686584.43900 4207740.11200
RMSE_XY: 1.85000
IMAGE_SOURCE: BLACK AND WHITE FILM
SOURCE_IMAGE_ID: NAPP 10519 36
SOURCE_IMAGE_DATE: 1998 08 15
SOURCE_DEM_DATE: 1962 00 00
AGENCY: WESTERN MAPPING CENTER (WMC)
PRODUCER: SANBORN COLORADO, L.L.C.
PRODUCTION_SYSTEM: ORBIT OR_RECTIFY V.5.2
COMPRESSION: UNDEFINED
STANDARD_VERSION: 1996 12
METADATA_DATE: 2001 12 18
DATA_FILE_SIZE: 49041960
BYTE_COUNT: 6360
